BEGIN:VCALENDAR
VERSION:2.0
PRODID:-//ChamberMaster//Event Calendar 2.0//EN
METHOD:PUBLISH
X-PUBLISHED-TTL:P3D
REFRESH-INTERVAL:P3D
CALSCALE:GREGORIAN
BEGIN:VEVENT
DTSTART;VALUE=DATE:20110202
DTEND;VALUE=DATE:20110203
TRANSP:TRANSPARENT
X-MICROSOFT-CDO-ALLDAYEVENT:TRUE
SUMMARY:Jazz Service
DESCRIPTION:At the First Religious Society\, 26 Pleasant Street\, Newburyport MA on Sunday\, February 6 - a Jazz Service. Tom Stites will be accompanied by Lark Madden and band.
X-ALT-DESC;FMTTYPE=text/html:<DIV><DIV>At the First Religious Society\, 26 Pleasant Street\, Newburyport MA on Sunday\, February 6 - a Jazz Service.</DIV><DIV>&nbsp\;</DIV><DIV>Tom Stites&nbsp\;will be accompanied by&nbsp\;Lark Madden and band.&nbsp\;</DIV></DIV>
LOCATION:First Religious Society
UID:e.1189.1786
SEQUENCE:3
DTSTAMP:20260420T091446Z
URL:https://business.newburyportchamber.org/events/details/jazz-service-02-02-2011-1786
END:VEVENT

END:VCALENDAR
