BEGIN:VCALENDAR
VERSION:2.0
PRODID:-//ChamberMaster//Event Calendar 2.0//EN
METHOD:PUBLISH
X-PUBLISHED-TTL:P3D
REFRESH-INTERVAL:P3D
CALSCALE:GREGORIAN
BEGIN:VEVENT
DTSTART:20200131T130000Z
DTEND:20200131T143000Z
X-MICROSOFT-CDO-ALLDAYEVENT:FALSE
SUMMARY:January Eye Opener - The Cure Studios
DESCRIPTION:Attend our Friday morning Eye Opener at The Cure Studios in Salisbury.  Enjoy coffee and light refreshments as you network in a casual\, intimate setting and make great contacts.  After mingling\, the group will then form a circle\, and each guest will have the opportunity to introduce themselves and their business to the group.  Eye Openers are typically held the last Friday of each month and the host changes each time.  Eye Openers are free for members to attend.\n\n\n\nThe Cure Studios is a specialty fitness studio offering Buti Yoga & Adult Dance Classes for beginners and all levels! They particularly focus on women & kids' classes\, including teen girls' yoga. Pound\, Hip Hop\, and more!  Visit their website here.
X-ALT-DESC;FMTTYPE=text/html:<div><span style="font-size:14px\;"><span data-offset-key="4sjje-0-0">Attend our Friday morning Eye Opener at The Cure Studios in Salisbury.&nbsp\;&nbsp\;</span><span data-offset-key="5i03p-0-0">Enjoy coffee and light refreshments as you network in a casual\, intimate setting and make&nbsp\;great contacts.&nbsp\; After mingling\, the group will then form a circle\, and each guest will have the opportunity to introduce themselves and their business to the group.&nbsp\; Eye Openers are typically held the last Friday of each month and the host changes each time.&nbsp\; Eye Openers are free for members to attend.</span><br />\n<br />\nThe Cure Studios is a specialty fitness studio offering Buti Yoga &amp\; Adult Dance Classes for beginners and all levels! They particularly focus&nbsp\;on women &amp\; kids&#39\; classes\, including teen girls&#39\; yoga. Pound\, Hip Hop\, and more!&nbsp\; Visit their website <a href="https://www.thecurestudios.com/">here</a>.</span></div>\n<span _fck_bookmark="1" style="display: none\;">&nbsp\;</span>
LOCATION:135 Elm Street Salisbury\, MA
UID:e.1189.69095
SEQUENCE:3
DTSTAMP:20260425T215709Z
URL:https://business.newburyportchamber.org/events/details/january-eye-opener-the-cure-studios-69095
END:VEVENT

END:VCALENDAR
