BEGIN:VCALENDAR
VERSION:2.0
PRODID:-//ChamberMaster//Event Calendar 2.0//EN
METHOD:PUBLISH
X-PUBLISHED-TTL:P3D
REFRESH-INTERVAL:P3D
CALSCALE:GREGORIAN
BEGIN:VEVENT
DTSTART:20090108T050000Z
DTEND:20090108T050000Z
X-MICROSOFT-CDO-ALLDAYEVENT:FALSE
SUMMARY:January 2009 Breakfast Forum Series
DESCRIPTION:"You Oughta Be In Pictures" – Join Massachusetts Film Office Executive Director\, Nick Paleologos for an interesting discussion on the growing filmmaking industry right here in the Commonwealth. Massachusetts was one of the first states to establish an official state film office in 1979. Since then\, the Massachusetts Film Office has welcomed over eighty feature filmmakers to the Bay State — including Norman Jewison\, Sydney Lumet\, Steven Spielberg\, Clint Eastwood\, and Martin Scorsese. In July of 2006\, the state placed the new Film Office along side the Massachusetts Sports Partnership under the umbrella of the Massachusetts Sports and Entertainment Commission\, a private non-profit organization charged with the responsibility of attracting major sporting and entertainment events to the Commonwealth. Some of the most notable films recently made were 21\, Pink Panther Deux and Gone Baby Gone. Location: \nMission Oak Grill\, 26 Green Street\, NewburyportReservations Required \n*Please note: reservations not cancelled 24-hours prior to event will be charged.
X-ALT-DESC;FMTTYPE=text/html:<DIV><SPAN class=810344419-07032008><FONT face="Times New Roman" size=2><STRONG></STRONG></FONT></SPAN></DIV><DIV><SPAN class=810344419-07032008><P><FONT color=#0f0f0f><STRONG>"You Oughta Be In Pictures" –</STRONG> Join Massachusetts Film Office Executive Director\, Nick Paleologos for an interesting discussion on the growing filmmaking industry right here in the Commonwealth. Massachusetts was one of the first states to establish an official state film office in 1979. Since then\, the Massachusetts Film Office has welcomed over eighty feature filmmakers to the Bay State — including Norman Jewison\, Sydney Lumet\, Steven Spielberg\, Clint Eastwood\, and Martin Scorsese. </FONT></P><P><FONT color=#0f0f0f>In July of 2006\, the state placed the new Film Office along side the </FONT><A href="http://www.masports.org/"><U><FONT color=#0f0f0f>Massachusetts Sports Partnership</FONT></U></A><FONT color=#0f0f0f> under the umbrella of the</FONT><A href="http://www.mafilm.org/board-of-directors/"><U><FONT color=#0f0f0f> Massachusetts Sports and Entertainment Commission</FONT></U></A><FONT color=#0f0f0f>\, a private non-profit organization charged with the responsibility of attracting major sporting and entertainment events to the Commonwealth. Some of the most notable films recently made were 21\, Pink Panther Deux and Gone Baby Gone. </FONT></P><P><FONT color=#0f0f0f><STRONG>Location:</STRONG> <BR></FONT><FONT color=#0f0f0f>Mission Oak Grill\, 26 Green Street\, Newburyport</FONT></P><P></SPAN><SPAN class=810344419-07032008><FONT color=#0f0f0f><STRONG>Reservations Required <BR></STRONG>*Please note: reservations not cancelled</FONT> 24-hours prior to event will be charged.</SPAN></P></DIV>
LOCATION:Mission Oak Grill
UID:e.1189.1140
SEQUENCE:3
DTSTAMP:20260422T074446Z
URL:https://business.newburyportchamber.org/events/details/january-2009-breakfast-forum-series-01-08-2009-1140
END:VEVENT

END:VCALENDAR
