BEGIN:VCALENDAR
VERSION:2.0
PRODID:-//ChamberMaster//Event Calendar 2.0//EN
METHOD:PUBLISH
X-PUBLISHED-TTL:P3D
REFRESH-INTERVAL:P3D
CALSCALE:GREGORIAN
BEGIN:VEVENT
DTSTART:20110925T133000Z
DTEND:20110925T190000Z
X-MICROSOFT-CDO-ALLDAYEVENT:FALSE
SUMMARY:Jackie Poor Memorial Walk
DESCRIPTION:We commemorate Jackie Poor and her courageous fight against ovarian cancer in this family friendly walk  (2-3 miles) through Newburyport.  Pre-register online at www.ocawareness.org or register on the day of the walk starting at 9:30 AM at Michael's Harborside Restaurant.  Join us after the walk at Michael's.  Make checks payable to Ovations for the Cure.
X-ALT-DESC;FMTTYPE=text/html:<p>\n	We commemorate Jackie Poor and her courageous fight against ovarian cancer in this family friendly walk &nbsp\;(2-3 miles) through Newburyport.&nbsp\; Pre-register online at <a href="http://www.ocawareness.org">www.ocawareness.org</a> or register on the day of the walk starting at 9:30 AM&nbsp\;at Michael&#39\;s Harborside Restaurant.&nbsp\; Join us after the walk at Michael&#39\;s.&nbsp\; Make checks payable to Ovations for the Cure.</p>\n
LOCATION:Michael's Harborside Restaurant\, Tournament Whart\, (978) 462-7785
UID:e.1189.2228
SEQUENCE:3
DTSTAMP:20260419T211126Z
URL:https://business.newburyportchamber.org/events/details/jackie-poor-memorial-walk-09-25-2011-2228
END:VEVENT

END:VCALENDAR
