BEGIN:VCALENDAR
VERSION:2.0
PRODID:-//ChamberMaster//Event Calendar 2.0//EN
METHOD:PUBLISH
X-PUBLISHED-TTL:P3D
REFRESH-INTERVAL:P3D
CALSCALE:GREGORIAN
BEGIN:VEVENT
DTSTART:20120122T200000Z
DTEND:20120122T210000Z
X-MICROSOFT-CDO-ALLDAYEVENT:FALSE
SUMMARY:Jack and the Beanstalk at Firehouse Center for the Arts
DESCRIPTION:The classic children's tale comes to life for your own child when the award-winning Crabgrass Puppets bring their world-class puppet characters to the Firehouse once again. Last year's performance of Haiku\, Hiphop and Hotdogs filled the Arakelian Theater with happy patrons. Delighting audiences for three decades Crabgrass Puppets have toured nationally and are always a favorite with children and parents alike!
X-ALT-DESC;FMTTYPE=text/html:The classic children&#39\;s tale comes to life for your own child when the award-winning Crabgrass Puppets bring their world-class puppet characters to the Firehouse once again. Last year&#39\;s performance of <em>Haiku\, Hiphop and Hotdogs</em> filled the Arakelian Theater with happy patrons. Delighting audiences for three decades Crabgrass Puppets have toured nationally and are always a favorite with children and parents alike! 
LOCATION:Firehouse Center for the Arts Market Square Newburyport MA 01950
UID:e.1189.2405
SEQUENCE:3
DTSTAMP:20260419T141703Z
URL:https://business.newburyportchamber.org/events/details/jack-and-the-beanstalk-at-firehouse-center-for-the-arts-01-22-2012-2405
END:VEVENT

END:VCALENDAR
