BEGIN:VCALENDAR
VERSION:2.0
PRODID:-//ChamberMaster//Event Calendar 2.0//EN
METHOD:PUBLISH
X-PUBLISHED-TTL:P3D
REFRESH-INTERVAL:P3D
CALSCALE:GREGORIAN
BEGIN:VEVENT
DTSTART:20111224T010000Z
DTEND:20111224T030000Z
X-MICROSOFT-CDO-ALLDAYEVENT:FALSE
SUMMARY:It'a a Wonderful Life at Firehouse Center for the Arts
DESCRIPTION:Theater in the Open is very excited to bring you a twist on the holiday classic\, back by popular demand. It's a Wonderful Life is based on the beloved Frank Capra film but done in the style of "the golden age of radio." Come watch and listen as George Bailey discovers that life really is wonderful and see how Clarence\, angel second class\, acquires his wings. Listen in as radio station WBFR brings us a live broadcast of this treasured story. This is a production that literally evokes laughter and tears but\, most of all\, it evokes memories of a story the world loves and most of us grew up with. Join Theater in the Open as they transform the Firehouse Center into a 1940's radio hall\, complete with sound-effect foley artists\, singing sponsors and old fashioned holiday spirit.
X-ALT-DESC;FMTTYPE=text/html:Theater in the Open is very excited to bring you a twist on the holiday classic\, back by popular demand. <em>It&#39\;s a Wonderful Life</em> is based on the beloved Frank Capra film but done in the style of &quot\;the golden age of radio.&quot\; Come watch and listen as George Bailey discovers that life really is wonderful and see how Clarence\, angel second class\, acquires his wings. Listen in as radio station WBFR brings us a live broadcast of this treasured story. This is a production that literally evokes laughter and tears but\, most of all\, it evokes memories of a story the world loves and most of us grew up with. Join Theater in the Open as they transform the Firehouse Center into a 1940&#39\;s radio hall\, complete with sound-effect foley artists\, singing sponsors and old fashioned holiday spirit.
LOCATION:Firehouse Center for the Arts Market Square Newburyport\, MA 01950
UID:e.1189.2365
SEQUENCE:3
DTSTAMP:20260419T160652Z
URL:https://business.newburyportchamber.org/events/details/it-a-a-wonderful-life-at-firehouse-center-for-the-arts-12-23-2011-2365
END:VEVENT

END:VCALENDAR
