BEGIN:VCALENDAR
VERSION:2.0
PRODID:-//ChamberMaster//Event Calendar 2.0//EN
METHOD:PUBLISH
X-PUBLISHED-TTL:P3D
REFRESH-INTERVAL:P3D
CALSCALE:GREGORIAN
BEGIN:VEVENT
DTSTART:20120202T000000Z
DTEND:20120202T010000Z
X-MICROSOFT-CDO-ALLDAYEVENT:FALSE
SUMMARY:Immigration Matters: Franco Majok
DESCRIPTION:Immigration Matters:  Franko Majok and Deana Lozano speakers.  Discussion on Lutheran Social Services bringing orphaned children from refugee camps in Africa and Asia to Massachusetts and guardians for these children.
X-ALT-DESC;FMTTYPE=text/html:Immigration Matters:&nbsp\; Franko Majok and Deana Lozano speakers.&nbsp\; Discussion on Lutheran Social Services bringing orphaned children from refugee camps in Africa and Asia to Massachusetts and guardians for these children.
LOCATION:First Religious Society 26 Pleasant Street Newburyport
UID:e.1189.2719
SEQUENCE:3
DTSTAMP:20260419T124414Z
URL:https://business.newburyportchamber.org/events/details/immigration-matters-franco-majok-02-01-2012-2719
END:VEVENT

END:VCALENDAR
