BEGIN:VCALENDAR
VERSION:2.0
PRODID:-//ChamberMaster//Event Calendar 2.0//EN
METHOD:PUBLISH
X-PUBLISHED-TTL:P3D
REFRESH-INTERVAL:P3D
CALSCALE:GREGORIAN
BEGIN:VEVENT
DTSTART:20111005T230000Z
DTEND:20111005T230000Z
X-MICROSOFT-CDO-ALLDAYEVENT:FALSE
SUMMARY:Immigration Matters
DESCRIPTION:Instead of focusing on just illegal immigrants\, let's learn about the legal immigrants who are now coming to Massachusetts. This month's emphasis will be on the families coming here from Burma. James Si Si Aung\, himself a refugee from Burma\, is a Community Health Worker in the Refugee and Immigrant Health Program for the Commonwealth of Massachusetts. Isla Glaister\, a citizen of Great Britain\, has worked for non-profit organizations in and around Burma for the past five years. These two will be the guest speakers for the Immigration Matters Study group on Wednesday October 5 at 7PM. Their personal experience both in Burma and now in Massachusetts with these refugees is quite illuminating. Come and learn about your new neighbors.
X-ALT-DESC;FMTTYPE=text/html:Instead of focusing on just illegal immigrants\, let&#39\;s learn about the legal immigrants who are now coming to Massachusetts. This month&#39\;s emphasis will be on the families coming here from Burma. James Si Si Aung\, himself a refugee from Burma\, is a Community Health Worker in the Refugee and Immigrant Health Program for the Commonwealth of Massachusetts. Isla Glaister\, a citizen of Great Britain\, has worked for non-profit organizations in and around Burma for the past five years. These two will be the guest speakers for the Immigration Matters Study group on Wednesday October 5 at 7PM. Their personal experience both in Burma and now in Massachusetts with these refugees is quite illuminating. Come and learn about your new neighbors.<br />\n
LOCATION:The First Religious Society\, 26 Pleasant Street Newburyport
UID:e.1189.2242
SEQUENCE:3
DTSTAMP:20260419T191109Z
URL:https://business.newburyportchamber.org/events/details/immigration-matters-10-05-2011-2242
END:VEVENT

END:VCALENDAR
