BEGIN:VCALENDAR
VERSION:2.0
PRODID:-//ChamberMaster//Event Calendar 2.0//EN
METHOD:PUBLISH
X-PUBLISHED-TTL:P3D
REFRESH-INTERVAL:P3D
CALSCALE:GREGORIAN
BEGIN:VEVENT
DTSTART:20111113T000000Z
DTEND:20111113T040000Z
X-MICROSOFT-CDO-ALLDAYEVENT:FALSE
SUMMARY:Hypnotist Jerry Valley at Black Swan Country Club
DESCRIPTION:LAS VEGAS SHOW\n\n	Featuring Amazing Hypnotist  Jerry Valley\n\n	Las Vegas\, Cruise Ships\, Movies & TV's 20/20\n\n	Performed over 7\,000 shows worldwide\n\n	**An Exhilarating Experience You Will Never Forget!**\n\n	Special Guest SInger Joan Dill\n\n	\n\n	DINNER~ DANCING~ SHOW\n\n	Saturday\, November 12th\n\n	7pm\n\n	Doors Open at 6:30pm\n\n	$40 Dinner & Show
X-ALT-DESC;FMTTYPE=text/html:<h1 style="text-align: center">\n	<span style="color: #ff0000"><span style="font-size: 16px">LAS VEGAS SHOW</span></span><br />\n	<span style="color: #0000cd">Featuring Amazing Hypnotist &nbsp\;Jerry Valley</span></h1>\n<p style="text-align: center">\n	<span style="color: #0000cd">Las Vegas\, Cruise Ships\, Movies &amp\; TV&#39\;s 20/20<br />\n	Performed over 7\,000 shows worldwide</span></p>\n<p style="text-align: center">\n	<span style="color: #0000cd">**An Exhilarating Experience You Will Never Forget!**<br />\n	Special Guest SInger Joan Dill</span><br />\n	<br />\n	<span style="color: #ff0000">DINNER~ DANCING~ SHOW</span><br />\n	<span style="color: #0000cd">Saturday\, November 12th<br />\n	7pm<br />\n	Doors Open at 6:30pm<br />\n	$40 Dinner &amp\; Show</span><br />\n	&nbsp\;</p>\n
LOCATION:The Black Swan Country Club 258 Andover Street Georgetown\, MA
UID:e.1189.2325
SEQUENCE:3
DTSTAMP:20260419T174557Z
URL:https://business.newburyportchamber.org/events/details/hypnotist-jerry-valley-at-black-swan-country-club-11-12-2011-2325
END:VEVENT

END:VCALENDAR
