BEGIN:VCALENDAR
VERSION:2.0
PRODID:-//ChamberMaster//Event Calendar 2.0//EN
METHOD:PUBLISH
X-PUBLISHED-TTL:P3D
REFRESH-INTERVAL:P3D
CALSCALE:GREGORIAN
BEGIN:VEVENT
DTSTART:20111210T010000Z
DTEND:20111210T030000Z
X-MICROSOFT-CDO-ALLDAYEVENT:FALSE
SUMMARY:Honkytonk Holiday Concert and Dance
DESCRIPTION:Honkytonk Holiday Concert and Dance Featuring Bill Kirchen:\n\nDecember 9\n\n\n\nGrammy-nominated guitarist\, singer and songwriter Bill Kirchen is one of the fortunate few who can step onto any stage and elicit instant recognition for a career that has spanned over 40 years and includes guitar work with Nick Lowe\, Emmylou Harris\, Doug Sahm\, Elvis Costello and many more.
X-ALT-DESC;FMTTYPE=text/html:Honkytonk Holiday Concert and Dance Featuring Bill Kirchen:<br />\nDecember 9<br />\n<br />\nGrammy-nominated guitarist\, singer and songwriter Bill Kirchen is one of the fortunate few who can step onto any stage and elicit instant recognition for a career that has spanned over 40 years and includes guitar work with Nick Lowe\, Emmylou Harris\, Doug Sahm\, Elvis Costello and many more.
LOCATION:Belleville Stage Room\, 300 High Street\, Newburyport\, MA 01950
UID:e.1189.2373
SEQUENCE:3
DTSTAMP:20260419T173220Z
URL:https://business.newburyportchamber.org/events/details/honkytonk-holiday-concert-and-dance-12-09-2011-2373
END:VEVENT

END:VCALENDAR
