BEGIN:VCALENDAR
VERSION:2.0
PRODID:-//ChamberMaster//Event Calendar 2.0//EN
METHOD:PUBLISH
X-PUBLISHED-TTL:P3D
REFRESH-INTERVAL:P3D
CALSCALE:GREGORIAN
BEGIN:VEVENT
DTSTART:20111210T140000Z
DTEND:20111210T200000Z
X-MICROSOFT-CDO-ALLDAYEVENT:FALSE
SUMMARY:Holly Craft Fair
DESCRIPTION:The annual Holly Craft Fair at the Byfield Community Arts Center will be held on December 10 from 9am to 3pm. Over 20 local and regional crafters will be able to help you find that perfect holiday gift for everyone on your list.
X-ALT-DESC;FMTTYPE=text/html:The annual Holly Craft Fair at the Byfield Community Arts Center will be held on December 10 from 9am to 3pm. Over 20 local and regional crafters will be able to help you find that perfect holiday gift for everyone on your list.
LOCATION:Byfield Community Arts Center\, 7 Central Street\, Byfield
UID:e.1189.2400
SEQUENCE:3
DTSTAMP:20260419T155727Z
URL:https://business.newburyportchamber.org/events/details/holly-craft-fair-12-10-2011-2400
END:VEVENT

END:VCALENDAR
