BEGIN:VCALENDAR
VERSION:2.0
PRODID:-//ChamberMaster//Event Calendar 2.0//EN
METHOD:PUBLISH
X-PUBLISHED-TTL:P3D
REFRESH-INTERVAL:P3D
CALSCALE:GREGORIAN
BEGIN:VEVENT
DTSTART;VALUE=DATE:20111111
DTEND;VALUE=DATE:20111114
TRANSP:TRANSPARENT
X-MICROSOFT-CDO-ALLDAYEVENT:TRUE
SUMMARY:HOLIDAY OPEN HOUSE-Wine & Cheese Reception
DESCRIPTION:20% off Storewide including custom orders and Gift Certificates!\n\n	\n\n	Fine Stationery\, Invitations\, Custom Design\, Holiday Photo and Greeting Cards\n\n	Gifts for friends and family!  Ask Deb to help you personalize your Holiday Greetings.\n\n	\n\n	Wine and cheese reception after 3 p.m.\n\n	\n\n	Enter to win Half Day Spa Package at Spa Paradiso and Salon\, Newburyport valued at $220!
X-ALT-DESC;FMTTYPE=text/html:<p>\n	<strong>20% off Storewide including custom orders and Gift Certificates</strong>!<br />\n	<br />\n	Fine Stationery\, Invitations\, Custom Design\, Holiday Photo and Greeting Cards<br />\n	Gifts for friends and family!&nbsp\; Ask Deb to help you personalize your Holiday Greetings.<br />\n	<br />\n	Wine and cheese reception after 3 p.m.<br />\n	<br />\n	<strong>Enter to win Half Day&nbsp\;Spa Package at Spa Paradiso and Salon\, Newburyport valued at $220!</strong></p>\n
LOCATION:Greetings by Design 4A Winter Street Newburyport\, MA 01950
UID:e.1189.2377
SEQUENCE:3
DTSTAMP:20260419T191557Z
URL:https://business.newburyportchamber.org/events/details/holiday-open-house-wine-cheese-reception-11-11-2011-2377
END:VEVENT

END:VCALENDAR
