BEGIN:VCALENDAR
VERSION:2.0
PRODID:-//ChamberMaster//Event Calendar 2.0//EN
METHOD:PUBLISH
X-PUBLISHED-TTL:P3D
REFRESH-INTERVAL:P3D
CALSCALE:GREGORIAN
BEGIN:VEVENT
DTSTART:20111204T160000Z
DTEND:20111204T210000Z
X-MICROSOFT-CDO-ALLDAYEVENT:FALSE
SUMMARY:Holiday Open House - Lowell's Boat Shop
DESCRIPTION:Our Annual Holiday Open House is a great tradition to ring in the holiday season.  Join us for food\, drink\, a visit from Santa\, and plenty of items to help cross your friends and family off of your shopping list.
X-ALT-DESC;FMTTYPE=text/html:<p>\n	<span style="font-size: 16px\;"><span style="font-family: times new roman\;">Our Annual Holiday Open House is a great tradition to ring in the holiday season.&nbsp\; Join us for food\, drink\, a visit from Santa\, and plenty of items to help cross your friends and family </span></span><span style="font-size:16px\;"><span style="font-family: times new roman\;">off of</span></span><span style="font-size:16px\;"><span style="font-family: times new roman\;"> your shopping list.</span></span></p>\n
LOCATION:Lowell's Boat Shop 459 Main Street Amesbury\, MA 01913
UID:e.1189.2293
SEQUENCE:3
DTSTAMP:20260419T160604Z
URL:https://business.newburyportchamber.org/events/details/holiday-open-house-lowell-s-boat-shop-12-04-2011-2293
END:VEVENT

END:VCALENDAR
