BEGIN:VCALENDAR
VERSION:2.0
PRODID:-//ChamberMaster//Event Calendar 2.0//EN
METHOD:PUBLISH
X-PUBLISHED-TTL:P3D
REFRESH-INTERVAL:P3D
CALSCALE:GREGORIAN
BEGIN:VEVENT
DTSTART:20111208T220000Z
DTEND:20111209T000000Z
X-MICROSOFT-CDO-ALLDAYEVENT:FALSE
SUMMARY:Holiday Open House Celebration at Brown's Wharf
DESCRIPTION:Join us for beverages and hors d'oeuvres. Tour our new space and network with the businesses.\n\n\n\nRSVP by December 5th to: strongresourcegroup@gmail.com  with the number of your guests.\n\n\n\nPlenty of parking available adjacent to Brown's Wharf.
X-ALT-DESC;FMTTYPE=text/html:Join us for beverages and hors d&#39\;oeuvres. Tour our new space and network with the businesses.<br />\n<br />\nRSVP by December 5th to: <a href="mailto:strongresourcegroup@gmail.com">strongresourcegroup@gmail.com</a>&nbsp\; with the number of your guests.<br />\n<br />\nPlenty of parking available adjacent to Brown&#39\;s Wharf.
LOCATION:40 Merrimac Street Newburyport
UID:e.1189.2391
SEQUENCE:3
DTSTAMP:20260419T173214Z
URL:https://business.newburyportchamber.org/events/details/holiday-open-house-celebration-at-brown-s-wharf-12-08-2011-2391
END:VEVENT

END:VCALENDAR
