BEGIN:VCALENDAR
VERSION:2.0
PRODID:-//ChamberMaster//Event Calendar 2.0//EN
METHOD:PUBLISH
X-PUBLISHED-TTL:P3D
REFRESH-INTERVAL:P3D
CALSCALE:GREGORIAN
BEGIN:VEVENT
DTSTART;VALUE=DATE:20111217
DTEND;VALUE=DATE:20111219
TRANSP:TRANSPARENT
X-MICROSOFT-CDO-ALLDAYEVENT:TRUE
SUMMARY:Holiday Open House
DESCRIPTION:A Shore Thing is offering 10% OFF all furniture (consignment pieces excluded) with light refreshments\, and a door prize of a beautiful Sorcha Mohair Throw\, valued at $225.00!
X-ALT-DESC;FMTTYPE=text/html:<span style="font-size: 14px"><span style="font-family: tahoma"><span style="color: #ff0000"><strong>A Shore Thing</strong></span> is offering 10% OFF all furniture (consignment pieces excluded) with light refreshments\, and a door prize of a beautiful <span style="color: #006400"><strong><em>Sorcha Mohair Throw</em></strong></span>\, valued at $225.00!</span></span>
LOCATION:A Shore Thing 1 Titcomb Street Newburyport
UID:e.1189.2425
SEQUENCE:3
DTSTAMP:20260419T154820Z
URL:https://business.newburyportchamber.org/events/details/holiday-open-house-12-17-2011-2425
END:VEVENT

END:VCALENDAR
