BEGIN:VCALENDAR
VERSION:2.0
PRODID:-//ChamberMaster//Event Calendar 2.0//EN
METHOD:PUBLISH
X-PUBLISHED-TTL:P3D
REFRESH-INTERVAL:P3D
CALSCALE:GREGORIAN
BEGIN:VEVENT
DTSTART:20091202T050000Z
DTEND:20091202T050000Z
X-MICROSOFT-CDO-ALLDAYEVENT:FALSE
SUMMARY:Holiday Mixer Retail Gift Item Participants
DESCRIPTION:Enjoy a festive evening mingling at the Phoenix Room with Chamber friends and catch the holiday spirit!   New this year: Find out what gift items are hot this year as you begin your holiday shopping!\nView sample items from local stores in one location in the Phoenix Room. Free hors d'oeuvres * Cash Bar\nAdmission:$5 Members\n$10 Non Members & Guests\n\nRSVP requiredIf registering after 12/1 please call the chamber at 978-462-6680 x13
X-ALT-DESC;FMTTYPE=text/html:<DIV><STRONG><FONT color=#ff0000><FONT face=Arial><FONT size=4><FONT color=#008000>Enjoy a festive evening mingling at the Phoenix Room with Chamber friends and catch&nbsp\;the holiday spirit!</FONT>&nbsp\; </FONT></FONT></FONT></STRONG></DIV><DIV><STRONG><FONT face=Arial color=#ff0000 size=4></FONT></STRONG>&nbsp\;</DIV><DIV><FONT color=#008000><FONT face=Arial><FONT size=4><STRONG>New this year:</STRONG> Find out what gift items are hot this&nbsp\;year as you begin your holiday shopping!<BR>View sample items from local&nbsp\;stores in one location in the Phoenix Room.</FONT></FONT></FONT></DIV><DIV><STRONG><FONT face=Arial color=#ff0000 size=4></FONT></STRONG>&nbsp\;</DIV><DIV><FONT face=Arial color=#ff0000 size=4>Free hors d'oeuvres * Cash Bar</FONT></DIV><FONT color=#ff0000><DIV><BR><EM><FONT face=Arial size=4><STRONG>Admission:</STRONG></FONT></EM></DIV><DIV><EM><FONT face=Arial size=4>$5&nbsp\;Members<BR></FONT></EM><EM><FONT face=Arial size=4>$10 Non Members &amp\; Guests<BR><BR>RSVP required<P class=bodytext><FONT face=Arial color=#008000><STRONG><EM>If registering after 12/1 please call the chamber at&nbsp\;978-462-6680 x13</EM></STRONG></FONT></P></FONT></EM></FONT></DIV><DIV><STRONG><FONT color=#ff0000></FONT></STRONG>&nbsp\;</DIV><DIV><STRONG><FONT color=#008000></FONT></STRONG>&nbsp\;</DIV><DIV><EM><STRONG><FONT color=#ff0000></FONT></STRONG></EM>&nbsp\;</DIV>
LOCATION:Annual Holiday Mixer
UID:e.1189.1363
SEQUENCE:3
DTSTAMP:20260421T132249Z
URL:https://business.newburyportchamber.org/events/details/holiday-mixer-retail-gift-item-participants-12-02-2009-1363
END:VEVENT

END:VCALENDAR
