BEGIN:VCALENDAR
VERSION:2.0
PRODID:-//ChamberMaster//Event Calendar 2.0//EN
METHOD:PUBLISH
X-PUBLISHED-TTL:P3D
REFRESH-INTERVAL:P3D
CALSCALE:GREGORIAN
BEGIN:VEVENT
DTSTART:20111222T000000Z
DTEND:20111222T030000Z
X-MICROSOFT-CDO-ALLDAYEVENT:FALSE
SUMMARY:Holiday Jazz at Ten Center
DESCRIPTION:Join the Phil McGowan Jazz Quartet for a special night of Holiday Jazz at Ten Center! What better way to celebrate the season than with the sounds of holidays\, while you wine and dine by the fireplaces at Ten?
X-ALT-DESC;FMTTYPE=text/html:Join the Phil McGowan Jazz Quartet for a special night of Holiday Jazz at Ten Center! What better way to celebrate the season than with the sounds of holidays\, while you wine and dine by the fireplaces at Ten?
LOCATION:Ten Center Street
UID:e.1189.2494
SEQUENCE:3
DTSTAMP:20260419T160147Z
URL:https://business.newburyportchamber.org/events/details/holiday-jazz-at-ten-center-12-21-2011-2494
END:VEVENT

END:VCALENDAR
