BEGIN:VCALENDAR
VERSION:2.0
PRODID:-//ChamberMaster//Event Calendar 2.0//EN
METHOD:PUBLISH
X-PUBLISHED-TTL:P3D
REFRESH-INTERVAL:P3D
CALSCALE:GREGORIAN
BEGIN:VEVENT
DTSTART:20111216T230000Z
DTEND:20111217T020000Z
X-MICROSOFT-CDO-ALLDAYEVENT:FALSE
SUMMARY:Holiday Invitation Night
DESCRIPTION:We have added a Third Invitation Night!\n\n\n\nMark your calendars\, book a babysitter and call your friends to make plans because we have added a third invitation night in Newburyport! Enjoy merchant hospitality\, fabulous shopping and dining - and of course the spirit of the holidays!\n\n\n\nPlease note here is a list of the places that are participating:\n\n\n\n A Shore Thing\n\nBC Essentials \n\nBlack Dog \n\nBrass Lyon \n\nDavid's Tavern \n\nDragon's Nest \n\nFancy Schmancy \n\nFluke & Finds & Friends \n\nHeadlines Boutique \n\nJL Coombs\n\nM.K. Winston Jewelers \n\nModern Mille \n\nNazarians Jewelers \n\nPartridge in a Bear Tree\n\nPawsitively Best Friends  \n\nPort Candle\n\nRichdale\n\nSimply Sweet\n\nSmitten  \n\nSoak\n\nThe Fashion Bus\n\nValerie's Gallery
X-ALT-DESC;FMTTYPE=text/html:<span><font face="Arial" size="2"><span style="font-family: 'century gothic'\; font-size: 10pt"><span style="font-size: medium"><span><font face="Arial" size="2"><span style="font-family: 'century gothic'\; font-size: 10pt">We have added a Third Invitation Night!<br />\n<br />\nMark your calendars\, book a babysitter and call your friends to make plans because we have added a third invitation night in Newburyport! Enjoy merchant hospitality\, fabulous shopping and dining - and of course the spirit of the holidays!<br />\n<br />\nPlease note here is a list of the places that are&nbsp\;participating:<br />\n<br />\n<span _fck_bookmark="1" style="display: none">&nbsp\;</span><span style="font-size: 10pt"><span style="font-family: century gothic\, sans-serif">A Shore Thing<br />\nBC Essentials </span></span><br />\n<span style="font-size: 10pt"><span style="font-family: century gothic\, sans-serif">Black Dog </span></span><br />\n<span style="font-size: 10pt"><span style="font-family: century gothic\, sans-serif">Brass Lyon </span></span><br />\n<span style="font-size: 10pt"><span style="font-family: century gothic\, sans-serif">David&rsquo\;s Tavern </span></span><br />\n<span style="font-size: 10pt"><span style="font-family: century gothic\, sans-serif">Dragon&rsquo\;s Nest </span></span><br />\n<span style="font-size: 10pt"><span style="font-family: century gothic\, sans-serif">Fancy Schmancy </span></span><br />\n<span style="font-size: 10pt"><span style="font-family: century gothic\, sans-serif">Fluke &amp\; Finds &amp\; Friends </span></span><br />\n<span style="font-size: 10pt"><span style="font-family: century gothic\, sans-serif">Headlines Boutique </span></span><br />\n<span style="font-size: 10pt"><span style="font-family: century gothic\, sans-serif">JL Coombs</span></span><br />\n<span style="font-size: 10pt"><span style="font-family: century gothic\, sans-serif">M.K. Winston Jewelers </span></span><br />\n<span style="font-size: 10pt"><span style="font-family: century gothic\, sans-serif">Modern Mille </span></span><br />\n<span style="font-size: 10pt"><span style="font-family: century gothic\, sans-serif">Nazarians Jewelers </span></span><br />\n<span style="font-size: 10pt"><span style="font-family: century gothic\, sans-serif">Partridge in a Bear Tree</span></span><br />\n<span style="font-size: 10pt"><span style="font-family: century gothic\, sans-serif">Pawsitively Best Friends &nbsp\;</span></span><br />\n<span style="font-size: 10pt"><span style="font-family: century gothic\, sans-serif">Port Candle<br />\nRichdale<br />\nSimply Sweet</span></span><br />\n<span style="font-size: 10pt"><span style="font-family: century gothic\, sans-serif">Smitten&nbsp\; </span></span><br />\n<span style="font-size: 10pt"><span style="font-family: century gothic\, sans-serif">Soak<br />\nThe Fashion Bus</span></span><br />\n<span style="font-size: 10pt"><span style="font-family: century gothic\, sans-serif">Valerie&rsquo\;s Gallery</span></span><br />\n<span style="font-size: 10pt"><span style="font-family: century gothic\, sans-serif">&nbsp\;&nbsp\;</span></span></span></font></span></span></span></font></span><br />\n
LOCATION:Downtown Newburyport encompasses the area from Winter Street to Federal Street\; and High Street to Merrimac/Water Street
UID:e.1189.2404
SEQUENCE:3
DTSTAMP:20260419T155803Z
URL:https://business.newburyportchamber.org/events/details/holiday-invitation-night-12-16-2011-2404
END:VEVENT

END:VCALENDAR
