BEGIN:VCALENDAR
VERSION:2.0
PRODID:-//ChamberMaster//Event Calendar 2.0//EN
METHOD:PUBLISH
X-PUBLISHED-TTL:P3D
REFRESH-INTERVAL:P3D
CALSCALE:GREGORIAN
BEGIN:VEVENT
DTSTART:20111202T230000Z
DTEND:20111203T020000Z
X-MICROSOFT-CDO-ALLDAYEVENT:FALSE
SUMMARY:Holiday Invitation Night
DESCRIPTION:First two Fridays in December!\n\n	December 2 & December 9\, 2011\n\n	\n\n	Mark you calendars\, book a babysitter and call your friends to make plans for two great nights in Newburyport!  Enjoy merchant hospitality\, live entertainment\, fabulous shopping and dining -  and of course the spirit of the holidays - in beautiful and festive downtown Newburyport and The Tannery!\n\n	\n\n	Click Here for Holiday Activities Poster.
X-ALT-DESC;FMTTYPE=text/html:<font face="Verdana" size="1">&nbsp\;</font>\n<p>\n	<span><font face="Arial" size="2"><span style="font-family: 'century gothic'\; font-size: 10pt">First two Fridays in December!<br />\n	December&nbsp\;2&nbsp\;&amp\; December 9\, 2011</span></font></span><br />\n	<br />\n	<span><font face="Arial" size="2"><span style="font-family: 'century gothic'\; font-size: 10pt">Mark you calendars\, book a babysitter and call your friends&nbsp\;to make plans for two great nights in Newburyport!&nbsp\; Enjoy merchant hospitality\, live entertainment\, fabulous shopping and dining -&nbsp\; and of course the spirit of the holidays - in beautiful and festive downtown Newburyport and The Tannery!<br />\n	<br />\n	<a href="http://www.newburyportchamber.org/files/1009.pdf" target="_blank"><strong><font size="2">Click Here</font></strong></a><font size="2"> for Holiday Activities Poster.<br />\n	<br />\n	<br />\n	<span _fck_bookmark="1" style="display: none">&nbsp\;</span></font></span></font></span></p>\n
LOCATION:Downtown Newburyport encompasses the area from Winter Street to Federal Street\; and High Street to Merrimac/Water Street
UID:e.1189.1879
SEQUENCE:3
DTSTAMP:20260419T155803Z
URL:https://business.newburyportchamber.org/events/details/holiday-invitation-night-12-02-2011-1879
END:VEVENT

END:VCALENDAR
