BEGIN:VCALENDAR
VERSION:2.0
PRODID:-//ChamberMaster//Event Calendar 2.0//EN
METHOD:PUBLISH
X-PUBLISHED-TTL:P3D
REFRESH-INTERVAL:P3D
CALSCALE:GREGORIAN
BEGIN:VEVENT
DTSTART:20091123T050000Z
DTEND:20091123T050000Z
X-MICROSOFT-CDO-ALLDAYEVENT:FALSE
SUMMARY:Holiday Homecoming Mixer - Joseph's Winter Street Cafe
DESCRIPTION:Holiday Homecoming Mixer\nHosted by Joseph's Winter Street Cafe\n\nThe pre-Thanksgiving mixer has returned. Join fellow chamber members\nas we welcome the start of the holiday season.Lots is NEW at Joseph's. New chef\, new menu\, new logo\, reburbished interior!\nCome check it out!Enjoy cocktails\, hors d'oeuvres and raffle prizes.Cash BarAdmission:\n$5 Members\n$10 Non Members and Guests\nIf registering after 10/22 please call the chamber at 978-462-6680 x13
X-ALT-DESC;FMTTYPE=text/html:<P><FONT size=4><FONT face=Arial color=#ff8000><STRONG><FONT color=#e4880c>Holiday Homecoming Mixer</FONT><BR></STRONG></FONT><FONT face=Arial>Hosted by </FONT></FONT><STRONG><FONT face=Arial size=4>Joseph's Winter Street Cafe<BR><BR></FONT></STRONG><FONT face=Arial size=4>The pre-Thanksgiving mixer has returned. Join fellow chamber members<BR>as we welcome the start of the holiday season.</FONT></P><P><FONT face=Arial size=4>Lots is <FONT color=#ff0000><STRONG>NEW </STRONG></FONT>at Joseph's. New chef\, new menu\,&nbsp\;new logo\, reburbished interior!<BR>Come check it out!</FONT></P><P><FONT face=Arial size=4>Enjoy cocktails\, hors d'oeuvres and raffle prizes.</FONT></P><P><FONT face=Arial size=4>Cash Bar</FONT></P><P><FONT face=Arial><FONT size=4><FONT color=#800000><STRONG>Admission:<BR>$5 Members<BR>$10 Non Members and Guests</STRONG></FONT><BR></FONT></FONT></P><P class=bodytext><FONT face=Arial><STRONG><EM>If registering after 10/22 please call the chamber at&nbsp\;978-462-6680 x13</EM></STRONG></FONT></P><A href="http://www.josephswinterstcafe.com"></A>
LOCATION:Joseph's Winter Street Cafe
UID:e.1189.1293
SEQUENCE:3
DTSTAMP:20260421T170451Z
URL:https://business.newburyportchamber.org/events/details/holiday-homecoming-mixer-joseph-s-winter-street-cafe-11-23-2009-1293
END:VEVENT

END:VCALENDAR
