BEGIN:VCALENDAR
VERSION:2.0
PRODID:-//ChamberMaster//Event Calendar 2.0//EN
METHOD:PUBLISH
X-PUBLISHED-TTL:P3D
REFRESH-INTERVAL:P3D
CALSCALE:GREGORIAN
BEGIN:VEVENT
DTSTART:20111129T000000Z
DTEND:20111129T030000Z
X-MICROSOFT-CDO-ALLDAYEVENT:FALSE
SUMMARY:Holiday Fundraiser Event
DESCRIPTION:Valentine's will be one of the proud sponsors for the following event hope to see you all there!\n\n\n\nHoliday Party Fundraiser Event!\n\n\n\nOur event will benefit\n\nToys for Tots\n\n&\n\nThe American Red Cross Disaster Relief\n\n\n\nA silent auction will be held with various items from local businesses in Newburyport\, and all proceeds will go to the American Red Cross Disaster Relief.\n\n\n\nEntry to the fundraiser will be a single unwrapped toy or book per person to benefit the\n\nToys for Tots\n\n\n\nRefreshments include Gourmet Coffee from Fowle's\, elegant chocolates from Simply Sweet\, appetizers from The Stoplight Cafe and much more!\n\n\n\nDuring the event there will be Carolers and live music for your bidding pleasure!\n\nMonday November 28th 2011\n\n\n\nDoors will open at 7:00pm\, bidding will begin at 7:30\, and the winner will be announced at 9:30   10:00\n\nFor more information\, volunteering\, or donating for this event please contact\n\nRebeccah at Pearson.Designs@NewburyportGuide.com
X-ALT-DESC;FMTTYPE=text/html:Valentine&#39\;s will be one of the proud sponsors for the following event hope to see you all there!<br />\n<br />\nHoliday Party Fundraiser Event!<br />\n<br />\nOur event will benefit<br />\nToys for Tots<br />\n&amp\;<br />\nThe American Red Cross Disaster Relief<br />\n<br />\nA silent auction will be held with various items from local businesses in Newburyport\, and all proceeds will go to the American Red Cross Disaster Relief.<br />\n<br />\nEntry to the fundraiser will be a single unwrapped toy or book per person to benefit the<br />\nToys for Tots<br />\n<br />\nRefreshments include Gourmet Coffee from Fowle&rsquo\;s\, elegant chocolates from Simply Sweet\, appetizers from The Stoplight Cafe and much more!<br />\n<br />\nDuring the event there will be Carolers and live music for your bidding pleasure!<br />\nMonday November 28th 2011<br />\n<br />\nDoors will open at 7:00pm\, bidding will begin at 7:30\, and the winner&nbsp\;will be announced at 9:30 &ndash\; 10:00<br />\nFor more information\, volunteering\, or donating for this event please contact<br />\nRebeccah at Pearson.Designs@NewburyportGuide.com<br />\n
LOCATION:Parish Hall 26 Pleasant Street\, Newburyport MA 01950
UID:e.1189.2077
SEQUENCE:3
DTSTAMP:20260419T172640Z
URL:https://business.newburyportchamber.org/events/details/holiday-fundraiser-event-11-28-2011-2077
END:VEVENT

END:VCALENDAR
