BEGIN:VCALENDAR
VERSION:2.0
PRODID:-//ChamberMaster//Event Calendar 2.0//EN
METHOD:PUBLISH
X-PUBLISHED-TTL:P3D
REFRESH-INTERVAL:P3D
CALSCALE:GREGORIAN
BEGIN:VEVENT
DTSTART:20110925T143000Z
DTEND:20110925T153000Z
X-MICROSOFT-CDO-ALLDAYEVENT:FALSE
SUMMARY:Historical Worship Service at Old South Church
DESCRIPTION:Join us for a special Sunday service on September 25th.  Special guest preacher will be George Whitefield!  Parishioners should consider dressing in period style clothing.  An all-church luncheon (21st century style food) will be served after the service.
X-ALT-DESC;FMTTYPE=text/html:Join us for a special Sunday service on September 25th.&nbsp\; Special guest preacher will be George Whitefield!&nbsp\; Parishioners should consider dressing in period style clothing.&nbsp\; An all-church luncheon (21st century style food) will be served after the service.&nbsp\; 
LOCATION:Old South\, First Presbyterian Church 29 Federal Street
UID:e.1189.2210
SEQUENCE:3
DTSTAMP:20260419T230100Z
URL:https://business.newburyportchamber.org/events/details/historical-worship-service-at-old-south-church-09-25-2011-2210
END:VEVENT

END:VCALENDAR
