BEGIN:VCALENDAR
VERSION:2.0
PRODID:-//ChamberMaster//Event Calendar 2.0//EN
METHOD:PUBLISH
X-PUBLISHED-TTL:P3D
REFRESH-INTERVAL:P3D
CALSCALE:GREGORIAN
BEGIN:VEVENT
DTSTART:20110823T140000Z
DTEND:20110823T190000Z
X-MICROSOFT-CDO-ALLDAYEVENT:FALSE
SUMMARY:High-Flying Fun
DESCRIPTION:Kids will have the opportunity to enjoy hands-on learning about the physics of flight at the Children's Museum of NH's "Build It   Fly It Day" on Tuesday\, August 23 from 10 am   3 pm.  A variety of activities related to flying will be available for visitors of all ages throughout the museum.\n\n \n\nYoung imaginations will soar as children create their own flying machines using a variety of everyday materials in this high-flying challenge. Kids will learn about the principles of aerodynamics and flight as they test their creations in the museum's two-and-a-half-story Build It. Fly It. exhibit. Whose invention will fly\, flip or flop? Visitors can also try their hand at constructing some other simple flyers to test and take home.\n\n\n\nAll Build It   Fly It Day activities are included in the regular price of admission: $8 for adults and children\, $7 for seniors age 65+\, and free for children under one year old. During the summer\, the museum is open to visitors seven days a week.
X-ALT-DESC;FMTTYPE=text/html:Kids will have the opportunity to enjoy hands-on learning about the physics of flight at the Children&rsquo\;s Museum of NH&rsquo\;s &ldquo\;Build It &ndash\; Fly It Day&rdquo\; on Tuesday\, August 23 from 10 am &ndash\; 3 pm. &nbsp\;A variety of activities related to flying will be available for visitors of all ages throughout the museum.<br />\n&nbsp\;<br />\nYoung imaginations will soar as children create their own flying machines using a variety of everyday materials in this high-flying challenge. Kids will learn about the principles of aerodynamics and flight as they test their creations in the museum&rsquo\;s two-and-a-half-story <i>Build It. Fly It.</i> exhibit. Whose invention will fly\, flip or flop? Visitors can also try their hand at constructing some other simple flyers to test and take home.<br />\n<br />\nAll Build It &ndash\; Fly It Day activities are included in the regular price of admission: $8 for adults and children\, $7 for seniors age 65+\, and free for children under one year old. During the summer\, the museum is open to visitors seven days a week.<br />\n<br />\n
LOCATION:Children's Museum of New Hampshire 6 Washington Street\, Dover NH 03820 603-742-2002 www.childrens-museum.org
UID:e.1189.2128
SEQUENCE:3
DTSTAMP:20260419T223350Z
URL:https://business.newburyportchamber.org/events/details/high-flying-fun-08-23-2011-2128
END:VEVENT

END:VCALENDAR
