BEGIN:VCALENDAR
VERSION:2.0
PRODID:-//ChamberMaster//Event Calendar 2.0//EN
METHOD:PUBLISH
X-PUBLISHED-TTL:P3D
REFRESH-INTERVAL:P3D
CALSCALE:GREGORIAN
BEGIN:VEVENT
DTSTART:20110604T140000Z
DTEND:20110605T210000Z
X-MICROSOFT-CDO-ALLDAYEVENT:FALSE
SUMMARY:Happy Birthday Flukes
DESCRIPTION:Flukes & Finds & Friends is having a Birthday and we plan to celebrate by having a good old fashioned Birthday Party\, coplete with cake\, punch and hats! Best of all you are all invited. We have decorated the shop with wonderful\, fun new merchandise to brighten up your home\, cottage and garden. Cake & Punch for everyone!
X-ALT-DESC;FMTTYPE=text/html:Flukes &amp\; Finds &amp\; Friends is having a Birthday and we plan to celebrate by having a good old fashioned Birthday Party\, coplete with cake\, punch and hats! Best of all you are all invited. We have decorated the shop with wonderful\, fun new merchandise to brighten up your home\, cottage and garden. Cake &amp\; Punch for everyone!
LOCATION:Flukes & Finds & Friends 70 State Street Newburyport\, MA 01950
UID:e.1189.1856
SEQUENCE:3
DTSTAMP:20260420T035231Z
URL:https://business.newburyportchamber.org/events/details/happy-birthday-flukes-06-04-2011-1856
END:VEVENT

END:VCALENDAR
