BEGIN:VCALENDAR
VERSION:2.0
PRODID:-//ChamberMaster//Event Calendar 2.0//EN
METHOD:PUBLISH
X-PUBLISHED-TTL:P3D
REFRESH-INTERVAL:P3D
CALSCALE:GREGORIAN
BEGIN:VEVENT
DTSTART:20081114T050000Z
DTEND:20081114T050000Z
X-MICROSOFT-CDO-ALLDAYEVENT:FALSE
SUMMARY:Green Business Expo
DESCRIPTION:Green Expo\nFriday\, November 14\, 2008 - 3:45 pm - 6:00 pm\nSaturday\, November 15\, 2008 - 10:00 am - 3:00 pm\nRupert A Nock Middle School\n70 Low Street\, Newburyport MAIf your company has Green products or services\, you are invited to take part in our Green Expo coming up on November 14 & 15\, 2008.The Greater Newburyport Eco Collaborative seeks to encourage and attract green industries\, retail and commercial ventures in the Newburyport region in order to build a healthy\, vibrant and environmentally sustainable community that also encourages economic growth. This Green Expo will present products\, services and information that promote healthier\, more sustainable practices to both the business and residentail community alike. We also strive to educate attendees in a family-friendly\, non-partisan atmosphere on environmental matters and movements. Due to the limited space at the Middle School\, all applications will be reviewed by the Chamber's Green Committee before applicants will be accepted.The event will be open to Chamber members and non-members\, please forward this to other businesses you think may be interested. Please click here to download the pdf Green Expo application.
X-ALT-DESC;FMTTYPE=text/html:<P><STRONG><FONT color=#004040>Green Expo</FONT></STRONG><BR>Friday\, November 14\, 2008 - 3:45 pm - 6:00 pm<BR>Saturday\, November 15\, 2008 - 10:00 am - 3:00 pm<BR>Rupert A Nock Middle School<BR>70 Low Street\, Newburyport MA</P><P>If your company has Green products or services\, you are invited to take part in our&nbsp\;Green Expo coming up on November 14 &amp\; 15\, 2008.</P><P>The Greater Newburyport Eco Collaborative seeks to encourage&nbsp\;and&nbsp\;attract green industries\, retail and commercial ventures in the Newburyport region in order to build a healthy\, vibrant and environmentally sustainable community that also encourages economic growth. </P><P>This Green Expo will present products\, services and information that promote healthier\, more sustainable practices to both the business and residentail community alike.&nbsp\;We also strive to educate attendees in a family-friendly\, non-partisan atmosphere on environmental matters and movements. </P><P>Due to the limited space at the Middle School\, all applications will be reviewed by the Chamber's Green Committee before applicants will be accepted.</P><P>The event will be open to Chamber members and non-members\, please forward this to other businesses you think may be interested. </P><P><A dataFld=0:0 title="" style="COLOR: blue\; TEXT-DECORATION: underline" href="http://www.newburyportchamber.org/pdf/greenexpo_app_nov2008.pdf" target=_self>Please click here to download the pdf Green Expo application.</A></P>
LOCATION:Nock Middle School
UID:e.1189.1079
SEQUENCE:3
DTSTAMP:20260422T112344Z
URL:https://business.newburyportchamber.org/events/details/green-business-expo-11-14-2008-1079
END:VEVENT

END:VCALENDAR
