BEGIN:VCALENDAR
VERSION:2.0
PRODID:-//ChamberMaster//Event Calendar 2.0//EN
METHOD:PUBLISH
X-PUBLISHED-TTL:P3D
REFRESH-INTERVAL:P3D
CALSCALE:GREGORIAN
BEGIN:VEVENT
DTSTART:20111002T000000Z
DTEND:20111002T020000Z
X-MICROSOFT-CDO-ALLDAYEVENT:FALSE
SUMMARY:Gordon Bok Benefit Concert at First Parish Church of Newbury
DESCRIPTION:First Parish Church of Newbury is thrilled to welcome back folk singer Gordon Bok to peform his songs of the sea at this benefit concert on Saturday\, October 1\, 2011 starting at 8:00pm. Proceeds from the concert will benefit the Church's Special Needs Children's programs.\n\n\n\nTickets are $20.00 each. To purchase\, contact 978-465-5597.
X-ALT-DESC;FMTTYPE=text/html:First Parish Church of Newbury is thrilled to welcome back folk singer Gordon Bok to peform his songs of the sea at this benefit concert on Saturday\, October 1\, 2011 starting at 8:00pm. Proceeds from the concert will benefit the Church&#39\;s Special Needs Children&#39\;s programs.<br />\n<br />\nTickets are $20.00 each. To purchase\, contact 978-465-5597.
LOCATION:First Parish Church of Newbury\, 20 High Road\, Rte 1A\, Newbury.
UID:e.1189.2209
SEQUENCE:3
DTSTAMP:20260419T192221Z
URL:https://business.newburyportchamber.org/events/details/gordon-bok-benefit-concert-at-first-parish-church-of-newbury-10-01-2011-2209
END:VEVENT

END:VCALENDAR
