BEGIN:VCALENDAR
VERSION:2.0
PRODID:-//ChamberMaster//Event Calendar 2.0//EN
METHOD:PUBLISH
X-PUBLISHED-TTL:P3D
REFRESH-INTERVAL:P3D
CALSCALE:GREGORIAN
BEGIN:VEVENT
DTSTART:20090507T040000Z
DTEND:20090507T040000Z
X-MICROSOFT-CDO-ALLDAYEVENT:FALSE
SUMMARY:Golf Committee Meeting
DESCRIPTION:Golf Committee Meeting. For information on joining this committee or to RSVP\, please contact pmarrese@newburyportchamber.org.
X-ALT-DESC;FMTTYPE=text/html:<DIV style="FONT-FAMILY: Calibri"><FONT face=Arial size=2>Golf Committee Meeting.</FONT></DIV><DIV style="FONT-FAMILY: Calibri"><FONT face=Arial size=2></FONT>&nbsp\;</DIV><DIV style="FONT-FAMILY: Calibri"><FONT face=Arial size=2>For information on joining this committee or to RSVP\, please contact </FONT><A href="mailto:pmarrese@newburyportchamber.org"><FONT face=Arial size=2>pmarrese@newburyportchamber.org</FONT></A><FONT face=Arial size=2>.</FONT></DIV>
LOCATION:Newburyport Chamber of Commerce
UID:e.1189.1229
SEQUENCE:3
DTSTAMP:20260422T005842Z
URL:https://business.newburyportchamber.org/events/details/golf-committee-meeting-05-07-2009-1229
END:VEVENT

END:VCALENDAR
