BEGIN:VCALENDAR
VERSION:2.0
PRODID:-//ChamberMaster//Event Calendar 2.0//EN
METHOD:PUBLISH
X-PUBLISHED-TTL:P3D
REFRESH-INTERVAL:P3D
CALSCALE:GREGORIAN
BEGIN:VEVENT
DTSTART:20080417T040000Z
DTEND:20080417T040000Z
X-MICROSOFT-CDO-ALLDAYEVENT:FALSE
SUMMARY:Golf Committee Meeting
DESCRIPTION:Golf Committee Meeting. Help plan the 2008 Chamber Golf Tournament taking place in June 30\, 2008 at the Abenaqui Country Club. For information on joining this committee or to RSVP contact mlanders@newburyportchamber.org
X-ALT-DESC;FMTTYPE=text/html:<DIV style="FONT-FAMILY: Arial">Golf Committee Meeting. </DIV><DIV style="FONT-FAMILY: Arial">Help plan the 2008 Chamber Golf Tournament taking place in June 30\, 2008 at the Abenaqui Country Club.</DIV><DIV style="FONT-FAMILY: Arial">&nbsp\;</DIV><DIV style="FONT-FAMILY: Arial">For information on joining this committee or to RSVP contact <A href="mailto:mlanders@newburyportchamber.org">mlanders@newburyportchamber.org</A> </DIV>
LOCATION:Newburyport Chamber of Commerce
UID:e.1189.949
SEQUENCE:3
DTSTAMP:20260424T101934Z
URL:https://business.newburyportchamber.org/events/details/golf-committee-meeting-04-17-2008-949
END:VEVENT

END:VCALENDAR
