BEGIN:VCALENDAR
VERSION:2.0
PRODID:-//ChamberMaster//Event Calendar 2.0//EN
METHOD:PUBLISH
X-PUBLISHED-TTL:P3D
REFRESH-INTERVAL:P3D
CALSCALE:GREGORIAN
BEGIN:VEVENT
DTSTART:20110613T113000Z
DTEND:20110613T170000Z
X-MICROSOFT-CDO-ALLDAYEVENT:FALSE
SUMMARY:Go for the Gold Golf Tournament
DESCRIPTION:$50\,000 Hole-in-One Contest. Awards luncheon\, Raffles & Auction.\n\n	Contact: info@friendsofnewburycoa.org
X-ALT-DESC;FMTTYPE=text/html:<p>\n	$50\,000 Hole-in-One Contest. Awards luncheon\, Raffles &amp\; Auction.</p>\n<p>\n	Contact: <a href="mailto:info@friendsofnewburycoa.org">info@friendsofnewburycoa.org</a></p>\n
LOCATION:Ipswich Country Club Route 1\, Newburyport Turnpike Ipswich www.ipswichcountryclub.com
UID:e.1189.1868
SEQUENCE:3
DTSTAMP:20260420T040150Z
URL:https://business.newburyportchamber.org/events/details/go-for-the-gold-golf-tournament-06-13-2011-1868
END:VEVENT

END:VCALENDAR
