BEGIN:VCALENDAR
VERSION:2.0
PRODID:-//ChamberMaster//Event Calendar 2.0//EN
METHOD:PUBLISH
X-PUBLISHED-TTL:P3D
REFRESH-INTERVAL:P3D
CALSCALE:GREGORIAN
BEGIN:VEVENT
DTSTART:20111211T200000Z
DTEND:20111211T220000Z
X-MICROSOFT-CDO-ALLDAYEVENT:FALSE
SUMMARY:Gift of the Magi and Other Stories (dance)at Firehouse Center for the Arts
DESCRIPTION:The Joppa Jazz dancers are back... just in time to perform some of our favorite holiday stories as interpreted through dance!  For 2011\, Joppa and The Firehouse are taking on holiday and winter themes for a performance that can be described as\, dance operas. The dance-stories vary in styles including ballet\, modern\, and contemporary.
X-ALT-DESC;FMTTYPE=text/html:The Joppa Jazz dancers are back... just in time to perform some of our favorite holiday stories as interpreted through dance!&nbsp\; For 2011\, Joppa and The Firehouse are taking on holiday and winter themes for a performance that can be described as\, dance operas. The dance-stories vary in styles including ballet\, modern\, and contemporary. 
LOCATION:Firehouse Center for the Arts Market Square Newburyport\, MA 01950
UID:e.1189.2347
SEQUENCE:3
DTSTAMP:20260419T174659Z
URL:https://business.newburyportchamber.org/events/details/gift-of-the-magi-and-other-stories-dance-at-firehouse-center-for-the-arts-12-11-2011-2347
END:VEVENT

END:VCALENDAR
