BEGIN:VCALENDAR
VERSION:2.0
PRODID:-//ChamberMaster//Event Calendar 2.0//EN
METHOD:PUBLISH
X-PUBLISHED-TTL:P3D
REFRESH-INTERVAL:P3D
CALSCALE:GREGORIAN
BEGIN:VEVENT
DTSTART:20120210T230000Z
DTEND:20120211T040000Z
X-MICROSOFT-CDO-ALLDAYEVENT:FALSE
SUMMARY:Friday Night Out Newburyport Style!
DESCRIPTION:Friday Night Out - Newburyport Style! \n\n	\n\n	Join us for a fun filled night that brings together the very best in shopping\, fashion\, beauty\, food and cocktails. Mark your calendar for Friday\, February 10 from 6- 11 PM.\n\n	\n\n	Make it a date night\, a girls night or a night just for you to shop at the hottest retailers with exclusive deals and in-store pampering and samplings!\n\n	\n\n	In - store shopping event from 6 to 9 PM. Enjoy special discounts\, sampling\, and complimentary items at participating retailers.\n\n	Enjoy signature cocktails and appetizers at participating restaurants.\n\n	\n\n	Phoenix Room After Party 9 to 11 PM - Dance the rest of the night away at the Phoenix Room After-Party! Sample sweet desserts & treats from your favorite Newburyport confectionaries.\n\n	Cash bar\, DJ and dancing!\n\n	\n\n	 SPACE IS LIMITIED - To reserve your spot today please email your name and email address to:\n\n	info@hotshopsnewburyport.com \n\n	\n\n	The first 100 registered attendees get a fabulous swag bag! \n\n	 \n\n	 \n\n	Click here for more information! \n\n	\n\n	Check out the list of participants and please check back for updates!\n\n	\n		\n			\n				A Shore Thing - Enjoy 10% off your purchase! \n		\n		\n			\n				BC Essentials - Pamper yourself with a free sugar scrub hand treatment tonight!\n		\n		\n			\n				Beach Plum Too   Complimentary cheese & crackers in store and 10% off your purchase between 6-9pm. \n		\n		\n			\n				Brass Lyon   Receive 20% off your purchase tonight!\n\n				Carry Out Cafe - Enjoy sweet treats at The Phoenix Room!  \n		\n		\n			\n				Chameleon   Sample sweet treats and check out our Valentine's Day Conversation Heart's Jewelry sale! Receive 15-50% off your purchase! \n		\n		\n			\n				Clay's \n		\n		\n			\n				Comina \n		\n		\n			\n				Flukes & Finds & Friends   Win a private Pajama Party for you and 50 friends! \n		\n		\n			\n				Gentry's Consignments - 25% off your purchase.\n\n				Harborside Catering - Enjoy sweet treats at The Phoenix Room!  \n		\n		\n			\n				Interlocks Salon & Day Spa   Join us for our "Lash Bash" event! We're all about eyes tonight\, offering free eyelash and make-up services!\n\n				Life is good   10% off all Valentine's Day merchandise.\n\n				Lindt Chocolate - Enjoy sweet treats at The Phoenix Room!  \n\n				Market Square Jewelers   Sample wine & cheese and enjoy 10% off your purchase.\n		\n		\n			\n				M.K. Winston Jewelers   Join us for champagne and strawberries. 10% off your purchase. \n		\n		\n			\n				Michael's Harborside - Find a special Friday Night Out Cocktail & Appetizer \n		\n		\n			\n				Oregano Pizzeria & Ristorante - Find a special Friday Night Out Cocktail & Appetizer   Find a special Friday Night Out Cocktail & Appetizer   Fi\n		\n		\n			\n				Partridge in a Bear Tree   20% entire store\, exclude sale items. \n		\n		\n			\n				Sisters We Three   10% off any purchase between 6-9pm. \n		\n		\n			\n				Smitten \n		\n		\n			\n				Spa Paradiso and Salon - Complimentary make-up applications. Call ahead 978-462-5530\n		\n		\n			\n				Sweet Flour Bakery - Enjoy sweet treats at The Phoenix Room! \n		\n		\n			\n				Ten Center Street Restaurant & Pub - Find a special Friday Night Out Cocktail & Appetizer    - F -  -0  \n\n				 Valentine's   Sample wine and goodies and enjoy a free fragrance sample.
X-ALT-DESC;FMTTYPE=text/html:<p>\n	<br />\n	<span style="font-family: comic sans ms"><span style="font-size: 12px"><big><strong><span style="color: #ff0000">Friday Night Out - Newburyport Style! </span></strong></big></span><br />\n	<br />\n	<big><span style="font-size: 12px">Join us for a fun filled night that brings together the very best in shopping\,&nbsp\;fashion\, beauty\, food and cocktails. Mark your calendar for Friday\, February 10 from 6- 11 PM.</span><br />\n	<br />\n	<span style="font-size: 12px">Make it a date night\, a girls night or a night just for you to shop at the hottest retailers with exclusive deals and in-store pampering and samplings!<br />\n	<br />\n	In - store shopping event from 6 to 9 PM. Enjoy&nbsp\;special discounts\, sampling\,&nbsp\;and complimentary items at participating retailers.<br />\n	Enjoy signature cocktails and appetizers at participating restaurants.<br />\n	<br />\n	Phoenix Room After Party 9 to 11 PM -&nbsp\;Dance the rest of the night away&nbsp\;at the Phoenix Room After-Party! Sample sweet desserts &amp\; treats from your favorite Newburyport confectionaries.<br />\n	Cash bar\, DJ and dancing!</span></big></span><br />\n	<br />\n	<span style="font-size: 12px"><font face="Comic Sans MS"><span _fck_bookmark="1" style="display: none">&nbsp\;</span>SPACE IS LIMITIED - To reserve your spot today please email your name and email address to:<br />\n	<a href="mailto:info@hotshopsnewburyport.com">info@hotshopsnewburyport.com</a> </font><br />\n	<br />\n	<font face="Comic Sans MS">The first 100 registered attendees get a fabulous swag bag!&nbsp\;</font><br />\n	<span _fck_bookmark="1" style="display: none">&nbsp\;</span><br />\n	<span _fck_bookmark="1" style="display: none">&nbsp\;</span></span><br />\n	<span style="font-family: comic sans ms"><big><span style="font-size: 12px"><a href="http://www.newburyportchamber.org/files/1302.pdf" target="_blank">Click here </a>for more information! </span></big><br />\n	<br />\n	<big>Check out the list of participants and&nbsp\;please check back for updates!</big></span></p>\n<table border="0" cellpadding="0" cellspacing="0" style="width: 678px\; border-collapse: collapse" width="678">\n	<tbody>\n		<tr style="height: 20px">\n			<td style="border-bottom: #000000\; border-left: #000000\; padding-bottom: 0in\; padding-left: 0in\; width: 678px\; padding-right: 0in\; height: 20px\; border-top: #000000\; border-right: #000000\; padding-top: 0in">\n				<span style="font-family: comic sans ms"><big><span style="font-size: 9pt"><span style="color: #222222"><span style="font-family: comic sans ms">A Shore Thing - Enjoy 10% off your purchase! </span></span></span></big></span></td>\n		</tr>\n		<tr style="height: 20px">\n			<td style="border-bottom: #000000\; border-left: #000000\; padding-bottom: 0in\; padding-left: 0in\; width: 678px\; padding-right: 0in\; height: 20px\; border-top: #000000\; border-right: #000000\; padding-top: 0in">\n				<span style="font-family: comic sans ms"><big><span style="font-size: 9pt"><span style="color: #222222"><span style="font-family: comic sans ms">BC Essentials - Pamper yourself with a free sugar scrub hand treatment tonight!</span></span></span></big></span></td>\n		</tr>\n		<tr style="height: 20px">\n			<td style="border-bottom: #000000\; border-left: #000000\; padding-bottom: 0in\; padding-left: 0in\; width: 678px\; padding-right: 0in\; height: 20px\; border-top: #000000\; border-right: #000000\; padding-top: 0in">\n				<span style="font-family: comic sans ms"><big><span style="font-size: 9pt"><span style="color: #222222"><span style="font-family: comic sans ms">Beach Plum Too &ndash\; Complimentary cheese &amp\; crackers in store and 10% off your purchase between 6-9pm. </span></span></span></big></span></td>\n		</tr>\n		<tr style="height: 20px">\n			<td style="border-bottom: #000000\; border-left: #000000\; padding-bottom: 0in\; padding-left: 0in\; width: 678px\; padding-right: 0in\; height: 20px\; border-top: #000000\; border-right: #000000\; padding-top: 0in">\n				<span style="font-family: comic sans ms"><big><span style="font-size: 9pt"><span style="color: #222222"><span style="font-family: comic sans ms">Brass Lyon &ndash\; Receive 20% off your purchase tonight!<br />\n				Carry Out Cafe - Enjoy sweet treats at The Phoenix Room!&nbsp\;<span _fck_bookmark="1" style="display: none">&nbsp\;</span></span></span></span></big></span></td>\n		</tr>\n		<tr style="height: 20px">\n			<td style="border-bottom: #000000\; border-left: #000000\; padding-bottom: 0in\; padding-left: 0in\; width: 678px\; padding-right: 0in\; height: 20px\; border-top: #000000\; border-right: #000000\; padding-top: 0in">\n				<span style="font-family: comic sans ms"><big><span style="font-size: 9pt"><span style="color: #222222"><span style="font-family: comic sans ms">Chameleon &ndash\; Sample sweet treats and check out our Valentine&rsquo\;s Day Conversation Heart&rsquo\;s Jewelry sale! Receive 15-50% off your purchase! </span></span></span></big></span></td>\n		</tr>\n		<tr style="height: 20px">\n			<td style="border-bottom: #000000\; border-left: #000000\; padding-bottom: 0in\; padding-left: 0in\; width: 678px\; padding-right: 0in\; height: 20px\; border-top: #000000\; border-right: #000000\; padding-top: 0in">\n				<span style="font-family: comic sans ms"><big><span style="font-size: 9pt"><span style="color: #222222"><span style="font-family: comic sans ms">Clay&rsquo\;s </span></span></span></big></span></td>\n		</tr>\n		<tr style="height: 20px">\n			<td style="border-bottom: #000000\; border-left: #000000\; padding-bottom: 0in\; padding-left: 0in\; width: 678px\; padding-right: 0in\; height: 20px\; border-top: #000000\; border-right: #000000\; padding-top: 0in">\n				<span style="font-family: comic sans ms"><big><span style="font-size: 9pt"><span style="color: #222222"><span style="font-family: comic sans ms">Comina </span></span></span></big></span></td>\n		</tr>\n		<tr style="height: 20px">\n			<td style="border-bottom: #000000\; border-left: #000000\; padding-bottom: 0in\; padding-left: 0in\; width: 678px\; padding-right: 0in\; height: 20px\; border-top: #000000\; border-right: #000000\; padding-top: 0in">\n				<span style="font-family: comic sans ms"><big><span style="font-size: 9pt"><span style="color: #222222"><span style="font-family: comic sans ms">Flukes &amp\; Finds &amp\; Friends &ndash\; Win a private Pajama Party for you and 50 friends! </span></span></span></big></span></td>\n		</tr>\n		<tr style="height: 20px">\n			<td style="border-bottom: #000000\; border-left: #000000\; padding-bottom: 0in\; padding-left: 0in\; width: 678px\; padding-right: 0in\; height: 20px\; border-top: #000000\; border-right: #000000\; padding-top: 0in">\n				<span style="font-family: comic sans ms"><big><span style="font-size: 9pt"><span style="color: #222222"><span style="font-family: comic sans ms">Gentry&rsquo\;s Consignments - 25% off your purchase.<br />\n				Harborside Catering - Enjoy sweet treats at The Phoenix Room!&nbsp\;<span _fck_bookmark="1" style="display: none">&nbsp\;</span></span></span></span></big></span></td>\n		</tr>\n		<tr style="height: 20px">\n			<td style="border-bottom: #000000\; border-left: #000000\; padding-bottom: 0in\; padding-left: 0in\; width: 678px\; padding-right: 0in\; height: 20px\; border-top: #000000\; border-right: #000000\; padding-top: 0in">\n				<span style="font-family: comic sans ms"><big><span style="font-size: 9pt"><span style="color: #222222"><span style="font-family: comic sans ms">Interlocks Salon &amp\; Day Spa &ndash\; Join us for our &ldquo\;Lash Bash&rdquo\; event! We&rsquo\;re all about eyes tonight\, offering free eyelash and make-up services!<br />\n				Life is good &ndash\; 10% off all Valentine&rsquo\;s Day merchandise.<br />\n				Lindt Chocolate - Enjoy sweet treats at The Phoenix Room!&nbsp\;<span _fck_bookmark="1" style="display: none">&nbsp\;</span><br />\n				Market Square Jewelers &ndash\; Sample wine &amp\; cheese and enjoy 10% off your purchase.</span></span></span></big></span></td>\n		</tr>\n		<tr style="height: 20px">\n			<td style="border-bottom: #000000\; border-left: #000000\; padding-bottom: 0in\; padding-left: 0in\; width: 678px\; padding-right: 0in\; height: 20px\; border-top: #000000\; border-right: #000000\; padding-top: 0in">\n				<span style="font-family: comic sans ms"><big><span style="font-size: 9pt"><span style="color: #222222"><span style="font-family: comic sans ms">M.K. Winston Jewelers &ndash\; Join us for champagne and strawberries. 10% off your purchase. </span></span></span></big></span></td>\n		</tr>\n		<tr style="height: 20px">\n			<td style="border-bottom: #000000\; border-left: #000000\; padding-bottom: 0in\; padding-left: 0in\; width: 678px\; padding-right: 0in\; height: 20px\; border-top: #000000\; border-right: #000000\; padding-top: 0in">\n				<span style="font-family: comic sans ms"><big><span style="font-size: 9pt"><span style="color: #222222"><span style="font-family: comic sans ms">Michael&rsquo\;s Harborside - Find a special Friday Night Out Cocktail &amp\; Appetizer </span></span></span></big></span></td>\n		</tr>\n		<tr style="height: 20px">\n			<td style="border-bottom: #000000\; border-left: #000000\; padding-bottom: 0in\; padding-left: 0in\; width: 678px\; padding-right: 0in\; height: 20px\; border-top: #000000\; border-right: #000000\; padding-top: 0in">\n				<span style="font-family: comic sans ms"><big><span style="font-size: 9pt"><span style="color: #222222"><span style="font-family: comic sans ms">Oregano Pizzeria &amp\; Ristorante - <font face="Comic Sans MS">Find a special Friday Night Out Cocktail &amp\; Appetizer&nbsp\;<span _fck_bookmark="1" style="display: none">&nbsp\;</span></font><span style="font-family: comic sans ms"><big><span style="font-size: 9pt"><span style="color: #222222"><span style="font-family: comic sans ms">&nbsp\;<span _fck_bookmark="1" style="display: none"><font face="Comic Sans MS">Find a special Friday Night Out Cocktail &amp\; Appetizer&nbsp\;<span _fck_bookmark="1" style="display: none">&nbsp\;</span></font>&nbsp\;Fi</span></span></span></span></big></span></span></span></span></big></span></td>\n		</tr>\n		<tr style="height: 20px">\n			<td style="border-bottom: #000000\; border-left: #000000\; padding-bottom: 0in\; padding-left: 0in\; width: 678px\; padding-right: 0in\; height: 20px\; border-top: #000000\; border-right: #000000\; padding-top: 0in">\n				<span style="font-family: comic sans ms"><big><span style="font-size: 9pt"><span style="color: #222222"><span style="font-family: comic sans ms">Partridge in a Bear Tree &ndash\; 20% entire store\, exclude sale items. </span></span></span></big></span></td>\n		</tr>\n		<tr style="height: 20px">\n			<td style="border-bottom: #000000\; border-left: #000000\; padding-bottom: 0in\; padding-left: 0in\; width: 678px\; padding-right: 0in\; height: 20px\; border-top: #000000\; border-right: #000000\; padding-top: 0in">\n				<span style="font-family: comic sans ms"><big><span style="font-size: 9pt"><span style="color: #222222"><span style="font-family: comic sans ms">Sisters We Three &ndash\; 10% off any purchase between 6-9pm. </span></span></span></big></span></td>\n		</tr>\n		<tr style="height: 20px">\n			<td style="border-bottom: #000000\; border-left: #000000\; padding-bottom: 0in\; padding-left: 0in\; width: 678px\; padding-right: 0in\; height: 20px\; border-top: #000000\; border-right: #000000\; padding-top: 0in">\n				<span style="font-family: comic sans ms"><big><span style="font-size: 9pt"><span style="color: #222222"><span style="font-family: comic sans ms">Smitten </span></span></span></big></span></td>\n		</tr>\n		<tr style="height: 20px">\n			<td style="border-bottom: #000000\; border-left: #000000\; padding-bottom: 0in\; padding-left: 0in\; width: 678px\; padding-right: 0in\; height: 20px\; border-top: #000000\; border-right: #000000\; padding-top: 0in">\n				<span style="font-family: comic sans ms"><big><span style="font-size: 9pt"><span style="color: #222222"><span style="font-family: comic sans ms">Spa Paradiso and Salon - Complimentary make-up applications. Call ahead 978-462-5530</span></span></span></big></span></td>\n		</tr>\n		<tr style="height: 20px">\n			<td style="border-bottom: #000000\; border-left: #000000\; padding-bottom: 0in\; padding-left: 0in\; width: 678px\; padding-right: 0in\; height: 20px\; border-top: #000000\; border-right: #000000\; padding-top: 0in">\n				<span style="font-family: comic sans ms"><big><span style="font-size: 9pt"><span style="color: #222222"><span style="font-family: comic sans ms">Sweet Flour Bakery - Enjoy sweet treats at The Phoenix Room! </span></span></span></big></span></td>\n		</tr>\n		<tr style="height: 20px">\n			<td style="border-bottom: #000000\; border-left: #000000\; padding-bottom: 0in\; padding-left: 0in\; width: 678px\; padding-right: 0in\; height: 20px\; border-top: #000000\; border-right: #000000\; padding-top: 0in">\n				<font face="Comic Sans MS"><span style="font-family: comic sans ms"><big><span style="font-size: 9pt"><span style="color: #222222"><span style="font-family: comic sans ms">Ten Center Street Restaurant &amp\; Pub - <font face="Comic Sans MS">Find a special Friday Night Out Cocktail &amp\; Appetizer&nbsp\;<span _fck_bookmark="1" style="display: none">&nbsp\;</span></font><span _fck_bookmark="1" style="display: none">&nbsp\; -&nbsp\;F -&nbsp\; -0&nbsp\; </span></span></span></span></big></span><br />\n				<span _fck_bookmark="1" style="display: none">&nbsp\;</span><span style="font-family: comic sans ms"><big><span style="font-size: 9pt"><span style="color: #222222"><span style="font-family: comic sans ms">Valentine&rsquo\;s &ndash\; Sample wine and goodies and enjoy a free fragrance sample.&nbsp\;<span _fck_bookmark="1" style="display: none">&nbsp\;</span></span></span></span></big></span></font></td>\n		</tr>\n		<tr style="height: 20px">\n			<td style="border-bottom: #000000\; border-left: #000000\; padding-bottom: 0in\; padding-left: 0in\; width: 678px\; padding-right: 0in\; height: 20px\; border-top: #000000\; border-right: #000000\; padding-top: 0in">\n				&nbsp\;</td>\n		</tr>\n	</tbody>\n</table>\n<br />\n<table border="0" cellpadding="0" cellspacing="0" style="width: 678px\; border-collapse: collapse" width="678">\n	<tbody>\n		<tr style="height: 20px">\n			<td style="border-bottom: #000000\; border-left: #000000\; padding-bottom: 0in\; padding-left: 0in\; width: 678px\; padding-right: 0in\; height: 20px\; border-top: #000000\; border-right: #000000\; padding-top: 0in">\n				&nbsp\;</td>\n		</tr>\n		<tr style="height: 20px">\n			<td style="border-bottom: #000000\; border-left: #000000\; padding-bottom: 0in\; padding-left: 0in\; width: 678px\; padding-right: 0in\; height: 20px\; border-top: #000000\; border-right: #000000\; padding-top: 0in">\n				&nbsp\;</td>\n		</tr>\n	</tbody>\n</table>\n
LOCATION:Newburyport\, MA
UID:e.1189.2722
SEQUENCE:3
DTSTAMP:20260419T141245Z
URL:https://business.newburyportchamber.org/events/details/friday-night-out-newburyport-style-02-10-2012-2722
END:VEVENT

END:VCALENDAR
