BEGIN:VCALENDAR
VERSION:2.0
PRODID:-//ChamberMaster//Event Calendar 2.0//EN
METHOD:PUBLISH
X-PUBLISHED-TTL:P3D
REFRESH-INTERVAL:P3D
CALSCALE:GREGORIAN
BEGIN:VEVENT
DTSTART:20110813T233000Z
DTEND:20110814T020000Z
X-MICROSOFT-CDO-ALLDAYEVENT:FALSE
SUMMARY:Free - Surfside Live Concert Schedule
DESCRIPTION:Free Concerts Surfside Live Saturdays June 25 - Sept 3 7:30 PM - Fireworks 10PM June 25 Entrain (Sand &amp\; Sea Festival) July 2 Evan Goodrow Band July 9 Aldous Colllins (SurFest Weekend) July 16 Bellevue Cadillac July 23 James Montgomery (Blues on the Beach Festival Weekend) July 30 B-Street BombersAug 6 Grateful Dread Aug 13 Joshua TreeAug 20 Adam Ezra Group Aug 27 Barefoot Truth Sept 3 The Brew
X-ALT-DESC;FMTTYPE=text/html:Free Concerts Surfside Live Saturdays June 25 - Sept 3 7:30 PM - Fireworks 10PM June 25 Entrain (Sand &amp\;amp\; Sea Festival) July 2 Evan Goodrow Band July 9 Aldous Colllins (SurFest Weekend) July 16 Bellevue Cadillac July 23 James Montgomery (Blues on the Beach Festival Weekend) July 30 B-Street BombersAug 6 Grateful Dread Aug 13 Joshua TreeAug 20 Adam Ezra Group Aug 27 Barefoot Truth Sept 3 The Brew
LOCATION:Salisbury Beach Center - Broadway Salisbury
UID:e.1189.1942
SEQUENCE:3
DTSTAMP:20260419T223700Z
URL:https://business.newburyportchamber.org/events/details/free-surfside-live-concert-schedule-08-13-2011-1942
END:VEVENT

END:VCALENDAR
