BEGIN:VCALENDAR
VERSION:2.0
PRODID:-//ChamberMaster//Event Calendar 2.0//EN
METHOD:PUBLISH
X-PUBLISHED-TTL:P3D
REFRESH-INTERVAL:P3D
CALSCALE:GREGORIAN
BEGIN:VEVENT
DTSTART:20110624T000000Z
DTEND:20110624T020000Z
X-MICROSOFT-CDO-ALLDAYEVENT:FALSE
SUMMARY:Forbidden Newburyport!
DESCRIPTION:Thu-Sat at 8pm\n\n	Sunday - Matinee only at 3pm\n\n	A VERY SPECIAL\n\n	FIREHOUSE 20th ANNIVERSARY PRODUCTION!\n\n	"I've lived in this town for thirty years and I can't believe ___________." Fill in the blank with your favorite local issue. Whether it's griping about parking\, pooper-scooper laws\, nesting plovers\, Plum Island erosion or the greenheads there is sure to be something in Forbidden Newburyport that will make you laugh.\n\n	Forbidden Newburyport is a satirical musical revue featuring fully-stagedBroadway show tunes lovingly (mostly!) rewritten to parody Newburyport icons\, institutions and issues. Songs such as "Tradition" (Zorba the Greek)\, "All That Jazz" (Chicago)\, and "La Vie Boheme" (Rent) will have you howling as the 'new and improved' lyrics highlight beloved local heroes and skewer those hot topics that push our buttons from time to time.\n\n	See Ann Ormond (President\,Newburyport Chamber of Commerce)\, Melissa Moore (Newburyport Five Cents Savings Bank)\, Teresa Spaulding (Law & Order\, As the World Turns)\, Allyn Gamble (opened for Johnny Carson\, George Carlin)\, John Budzyna (Executive Director\, Arlington Center for the Arts)\; and many more of your talented friends and neighborsas they eschew their day jobs and take to the Arakelian Stage to participate in this summer's sizzling roast of all things near and dear to our hearts!\n\n	Directed and written by Suzanne Hitchcock Bryan\, Forbidden Newburyport will also feature additional lyrics by John Budzyna and will be choreographed by Cheryl Fisher Schwind. Musical direction provided by Jared Lawson.\n\n	The live band will include Dan Bryan (bass)\, Jamie Welch (bass) and P.J. Holaday (drums). Yes\, that Holaday -- son of the current Newburyport mayor. Holaday the younger will be sworn to secrecy during rehearsals...just in case there's a little mayoral skewering in the works!\n\n	Sure to be the talk of the town\, don't missForbidden Newburyport. It's all here: dancing\, singing\, all your favorite show tunes\, talented friends and neighbors hoofing it at the Firehouse and side-splitting comedy as local current events are put to music and put to the torch in this no-holds-barred revue!\n\n	Directed and written by Suzanne Hitchcock Bryan.\n\n	Musical Director: Jared Lawson\n\n	Choreographer: Cheryl Fisher Schwind\n\n	Contributing Writer: John Budzyna\n\n	Poster Design: Tim Hiltabiddle/Milestone Marketing\n\n	This event is produced bythe Firehouse Center for the Arts.\n\n	Tickets: Adults $25\; Students/Seniors/Members $23
X-ALT-DESC;FMTTYPE=text/html:<p>\n	Thu-Sat at 8pm<br />\n	Sunday - Matinee only at 3pm<br />\n	A VERY SPECIAL<br />\n	FIREHOUSE 20th ANNIVERSARY PRODUCTION!</p>\n<p>\n	&quot\;I&#39\;ve lived in this town for thirty years and I can&#39\;t believe ___________.&quot\; Fill in the blank with your favorite local issue. Whether it&#39\;s griping about parking\, pooper-scooper laws\, nesting plovers\, Plum Island erosion or the greenheads there is sure to be something in Forbidden Newburyport that will make you laugh.</p>\n<p>\n	Forbidden Newburyport is a satirical musical revue featuring fully-stagedBroadway show tunes lovingly (mostly!) rewritten to parody Newburyport icons\, institutions and issues. Songs such as &quot\;Tradition&quot\; (Zorba the Greek)\, &quot\;All That Jazz&quot\; (Chicago)\, and &quot\;La Vie Boheme&quot\; (Rent) will have you howling as the &#39\;new and improved&#39\; lyrics highlight beloved local heroes and skewer those hot topics that push our buttons from time to time.</p>\n<p>\n	See Ann Ormond (President\,Newburyport Chamber of Commerce)\, Melissa Moore (Newburyport Five Cents Savings Bank)\, Teresa Spaulding (Law &amp\; Order\, As the World Turns)\, Allyn Gamble (opened for Johnny Carson\, George Carlin)\, John Budzyna (Executive Director\, Arlington Center for the Arts)\; and many more of your talented friends and neighborsas they eschew their day jobs and take to the Arakelian Stage to participate in this summer&#39\;s sizzling roast of all things near and dear to our hearts!</p>\n<p>\n	Directed and written by Suzanne Hitchcock Bryan\, Forbidden Newburyport will also feature additional lyrics by John Budzyna and will be choreographed by Cheryl Fisher Schwind. Musical direction provided by Jared Lawson.</p>\n<p>\n	The live band will include Dan Bryan (bass)\, Jamie Welch (bass) and P.J. Holaday (drums). Yes\, that Holaday -- son of the current Newburyport mayor. Holaday the younger will be sworn to secrecy during rehearsals...just in case there&#39\;s a little mayoral skewering in the works!</p>\n<p>\n	Sure to be the talk of the town\, don&#39\;t missForbidden Newburyport. It&#39\;s all here: dancing\, singing\, all your favorite show tunes\, talented friends and neighbors hoofing it at the Firehouse and side-splitting comedy as local current events are put to music and put to the torch in this no-holds-barred revue!<br />\n	Directed and written by Suzanne Hitchcock Bryan.<br />\n	Musical Director: Jared Lawson<br />\n	Choreographer: Cheryl Fisher Schwind<br />\n	Contributing Writer: John Budzyna<br />\n	Poster Design: Tim Hiltabiddle/Milestone Marketing</p>\n<p>\n	This event is produced bythe Firehouse Center for the Arts.</p>\n<p>\n	Tickets: Adults $25\; Students/Seniors/Members $23</p>\n
LOCATION:Firehouse Center for the Arts Market Sq Newburyport (978) 462-7336
UID:e.1189.1929
SEQUENCE:3
DTSTAMP:20260420T035231Z
URL:https://business.newburyportchamber.org/events/details/forbidden-newburyport-06-23-2011-1929
END:VEVENT

END:VCALENDAR
