BEGIN:VCALENDAR
VERSION:2.0
PRODID:-//ChamberMaster//Event Calendar 2.0//EN
METHOD:PUBLISH
X-PUBLISHED-TTL:P3D
REFRESH-INTERVAL:P3D
CALSCALE:GREGORIAN
BEGIN:VEVENT
DTSTART:20110607T210000Z
DTEND:20110608T020000Z
X-MICROSOFT-CDO-ALLDAYEVENT:FALSE
SUMMARY:Flatbread Fundraiser
DESCRIPTION:Fundraiser for Coastal Trails Coalition
X-ALT-DESC;FMTTYPE=text/html:Fundraiser for Coastal Trails Coalition
LOCATION:Flatbread Pizza Amesbury\, MA
UID:e.1189.1859
SEQUENCE:3
DTSTAMP:20260420T015558Z
URL:https://business.newburyportchamber.org/events/details/flatbread-fundraiser-06-07-2011-1859
END:VEVENT

END:VCALENDAR
