BEGIN:VCALENDAR
VERSION:2.0
PRODID:-//ChamberMaster//Event Calendar 2.0//EN
METHOD:PUBLISH
X-PUBLISHED-TTL:P3D
REFRESH-INTERVAL:P3D
CALSCALE:GREGORIAN
BEGIN:VEVENT
DTSTART:20110628T213000Z
DTEND:20110629T010000Z
X-MICROSOFT-CDO-ALLDAYEVENT:FALSE
SUMMARY:Flatbread Benefit Night for Trails & Sails
DESCRIPTION:Essex Heritage is celebrating a milestone! In anticipation of the 10th year of Trails &amp\; Sails\, Essex Heritage staff invites you to join us in an evening of good food and fund raising. On Tuesday\, June28 Flatbread Company in Amesbury will donate a portion of each flatbread sold during the evening. Come hungry\; bring your friends and family! This is a delicious opportunity to support your favorite annual event\, TRAILS &amp\; SAILS.
X-ALT-DESC;FMTTYPE=text/html:Essex Heritage is celebrating a milestone! In anticipation of the 10th year of Trails &amp\;amp\; Sails\, Essex Heritage staff invites you to join us in an evening of good food and fund raising. On Tuesday\, June28 Flatbread Company in Amesbury will donate a portion of each flatbread sold during the evening. Come hungry\; bring your friends and family! This is a delicious opportunity to support your favorite annual event\, TRAILS &amp\;amp\; SAILS.
LOCATION:Flatbread Company 5 Market Square Amesbury 978-740-0444
UID:e.1189.1949
SEQUENCE:3
DTSTAMP:20260420T015727Z
URL:https://business.newburyportchamber.org/events/details/flatbread-benefit-night-for-trails-sails-06-28-2011-1949
END:VEVENT

END:VCALENDAR
