BEGIN:VCALENDAR
VERSION:2.0
PRODID:-//ChamberMaster//Event Calendar 2.0//EN
METHOD:PUBLISH
X-PUBLISHED-TTL:P3D
REFRESH-INTERVAL:P3D
CALSCALE:GREGORIAN
BEGIN:VEVENT
DTSTART:20110809T120000Z
DTEND:20110809T130000Z
X-MICROSOFT-CDO-ALLDAYEVENT:FALSE
SUMMARY:Finance / Executive Committees Meeting
DESCRIPTION:Monthly meeting of the Finance Committee. Email all RSVP's to Terry Thompson     tthompson@newburyportchamber.org
X-ALT-DESC;FMTTYPE=text/html:<DIV style="FONT-FAMILY: Arial">Monthly meeting of the Finance Committee.</DIV><DIV style="FONT-FAMILY: Arial">&nbsp\;</DIV><DIV style="FONT-FAMILY: Arial">Email all RSVP's to Terry Thompson&nbsp\;&nbsp\;&nbsp\; &nbsp\;<A href="mailto:tthompson@newburyportchamber.org">tthompson@newburyportchamber.org</A>&nbsp\;</DIV>
LOCATION:Gtr. Newburyport Chamber of Commerce & Industry
UID:e.1189.1679
SEQUENCE:3
DTSTAMP:20260420T001757Z
URL:https://business.newburyportchamber.org/events/details/finance-executive-committees-meeting-08-09-2011-1679
END:VEVENT

END:VCALENDAR
