BEGIN:VCALENDAR
VERSION:2.0
PRODID:-//ChamberMaster//Event Calendar 2.0//EN
METHOD:PUBLISH
X-PUBLISHED-TTL:P3D
REFRESH-INTERVAL:P3D
CALSCALE:GREGORIAN
BEGIN:VEVENT
DTSTART:20100908T040000Z
DTEND:20100908T040000Z
X-MICROSOFT-CDO-ALLDAYEVENT:FALSE
SUMMARY:Finance Committee Meeting - Week Earlier
DESCRIPTION:Monthly meeting of the Finance Committee. Email all RSVP's to Terry Thompson     tthompson@newburyportchamber.org
X-ALT-DESC;FMTTYPE=text/html:<DIV style="FONT-FAMILY: Arial">Monthly meeting of the Finance Committee.</DIV><DIV style="FONT-FAMILY: Arial">&nbsp\;</DIV><DIV style="FONT-FAMILY: Arial">Email all RSVP's to Terry Thompson&nbsp\;&nbsp\;&nbsp\; &nbsp\;<A href="mailto:tthompson@newburyportchamber.org">tthompson@newburyportchamber.org</A>&nbsp\;</DIV>
LOCATION:Gtr. Newburyport Chamber of Commerce & Industry
UID:e.1189.1480
SEQUENCE:3
DTSTAMP:20260420T193834Z
URL:https://business.newburyportchamber.org/events/details/finance-committee-meeting-week-earlier-09-08-2010-1480
END:VEVENT

END:VCALENDAR
