BEGIN:VCALENDAR
VERSION:2.0
PRODID:-//ChamberMaster//Event Calendar 2.0//EN
METHOD:PUBLISH
X-PUBLISHED-TTL:P3D
REFRESH-INTERVAL:P3D
CALSCALE:GREGORIAN
BEGIN:VEVENT
DTSTART:20111206T123000Z
DTEND:20111206T140000Z
X-MICROSOFT-CDO-ALLDAYEVENT:FALSE
SUMMARY:Finance Committee Meeting
DESCRIPTION:Monthly meeting of the Finance Committee. Email all RSVP's to Terry Thompson     tthompson@newburyportchamber.org
X-ALT-DESC;FMTTYPE=text/html:<DIV style="FONT-FAMILY: Arial">Monthly meeting of the Finance Committee.</DIV><DIV style="FONT-FAMILY: Arial">&nbsp\;</DIV><DIV style="FONT-FAMILY: Arial">Email all RSVP's to Terry Thompson&nbsp\;&nbsp\;&nbsp\; &nbsp\;<A href="mailto:tthompson@newburyportchamber.org">tthompson@newburyportchamber.org</A>&nbsp\;</DIV>
LOCATION:Gtr. Newburyport Chamber of Commerce & Industry
UID:e.1189.1682
SEQUENCE:3
DTSTAMP:20260419T155855Z
URL:https://business.newburyportchamber.org/events/details/finance-committee-meeting-12-06-2011-1682
END:VEVENT

END:VCALENDAR
