BEGIN:VCALENDAR
VERSION:2.0
PRODID:-//ChamberMaster//Event Calendar 2.0//EN
METHOD:PUBLISH
X-PUBLISHED-TTL:P3D
REFRESH-INTERVAL:P3D
CALSCALE:GREGORIAN
BEGIN:VEVENT
DTSTART:20111115T123000Z
DTEND:20111115T133000Z
X-MICROSOFT-CDO-ALLDAYEVENT:FALSE
SUMMARY:Finance Committee - Budget Session
DESCRIPTION:Special Finance Committee meeting to continue Budget 2012 discussions.
X-ALT-DESC;FMTTYPE=text/html:Special Finance Committee meeting to continue Budget 2012 discussions.
LOCATION:Chamber Office 38R Merrimac Street Newburyport\, MA
UID:e.1189.2376
SEQUENCE:3
DTSTAMP:20260419T191529Z
URL:https://business.newburyportchamber.org/events/details/finance-committee-budget-session-11-15-2011-2376
END:VEVENT

END:VCALENDAR
