BEGIN:VCALENDAR
VERSION:2.0
PRODID:-//ChamberMaster//Event Calendar 2.0//EN
METHOD:PUBLISH
X-PUBLISHED-TTL:P3D
REFRESH-INTERVAL:P3D
CALSCALE:GREGORIAN
BEGIN:VEVENT
DTSTART:20110924T160000Z
DTEND:20110925T003000Z
X-MICROSOFT-CDO-ALLDAYEVENT:FALSE
SUMMARY:Fifth Annual Brew Fest
DESCRIPTION:The Amesbury Sports Park's Fifth Annual Brew Fest has grown to new heights\, with upwards of 5\,000 guests expected this year. The festival features more than 100 craft brews\, as well as music from The Brew\, Michael Bernier and THE UPRISING\, Analog Heart\, Nerve 8\, The Romano Project and Sunchunck. There will also be food\, OGO\, summer tubing and more. An all ages event.
X-ALT-DESC;FMTTYPE=text/html:<p>\n	The Amesbury Sports Park&#39\;s Fifth Annual Brew Fest has grown to new heights\, with upwards of 5\,000 guests expected this year. The festival features more than 100 craft brews\, as well as music from The Brew\, Michael Bernier and THE UPRISING\, Analog Heart\, Nerve 8\, The Romano Project and Sunchunck. There will also be food\, OGO\, summer tubing and more. An all ages event.</p>\n
LOCATION:Amesbury Sports Park Hunt Road\, Amesbury
UID:e.1189.2212
SEQUENCE:3
DTSTAMP:20260419T211148Z
URL:https://business.newburyportchamber.org/events/details/fifth-annual-brew-fest-09-24-2011-2212
END:VEVENT

END:VCALENDAR
