BEGIN:VCALENDAR
VERSION:2.0
PRODID:-//ChamberMaster//Event Calendar 2.0//EN
METHOD:PUBLISH
X-PUBLISHED-TTL:P3D
REFRESH-INTERVAL:P3D
CALSCALE:GREGORIAN
BEGIN:VEVENT
DTSTART:20090205T050000Z
DTEND:20090205T050000Z
X-MICROSOFT-CDO-ALLDAYEVENT:FALSE
SUMMARY:February 2009 Breakfast Forum Series
DESCRIPTION:Mayor John Moak will give a State of the City Address.Reservations Required \n*Please note: reservations not cancelled 24-hours prior to event will be charged.
X-ALT-DESC;FMTTYPE=text/html:<DIV><SPAN class=810344419-07032008><FONT face="Times New Roman" size=2><STRONG></STRONG></FONT></SPAN></DIV><DIV><SPAN class=810344419-07032008><P><FONT color=#0f0f0f><FONT face=Arial>Mayor John Moak will give a State of the City Address.</FONT></FONT></P><P></SPAN><SPAN class=810344419-07032008><FONT face=Arial><FONT color=#0f0f0f><STRONG>Reservations Required <BR></STRONG>*Please note: reservations not cancelled</FONT> 24-hours prior to event will be charged.</FONT></SPAN></P></DIV>
LOCATION:The Phoenix Room
UID:e.1189.1154
SEQUENCE:3
DTSTAMP:20260422T060211Z
URL:https://business.newburyportchamber.org/events/details/february-2009-breakfast-forum-series-02-05-2009-1154
END:VEVENT

END:VCALENDAR
