BEGIN:VCALENDAR
VERSION:2.0
PRODID:-//ChamberMaster//Event Calendar 2.0//EN
METHOD:PUBLISH
X-PUBLISHED-TTL:P3D
REFRESH-INTERVAL:P3D
CALSCALE:GREGORIAN
BEGIN:VEVENT
DTSTART:20110725T000000Z
DTEND:20110725T020000Z
X-MICROSOFT-CDO-ALLDAYEVENT:FALSE
SUMMARY:Fatum Brothers' Jazz
DESCRIPTION:see website:\n\nmaudslayartscenter.org
X-ALT-DESC;FMTTYPE=text/html:see website:<br />\nmaudslayartscenter.org
LOCATION:Maudslay Arts Center 95 Curzon Mill Rd.\, Maudslay State Park Newburyport
UID:e.1189.1981
SEQUENCE:3
DTSTAMP:20260420T002032Z
URL:https://business.newburyportchamber.org/events/details/fatum-brothers-jazz-07-24-2011-1981
END:VEVENT

END:VCALENDAR
