BEGIN:VCALENDAR
VERSION:2.0
PRODID:-//ChamberMaster//Event Calendar 2.0//EN
METHOD:PUBLISH
X-PUBLISHED-TTL:P3D
REFRESH-INTERVAL:P3D
CALSCALE:GREGORIAN
BEGIN:VEVENT
DTSTART:20111023T140000Z
DTEND:20111023T190000Z
X-MICROSOFT-CDO-ALLDAYEVENT:FALSE
SUMMARY:Fall Haul & Mighty Merrimack Rowing Race-Fall Classic
DESCRIPTION:Members and friends\, please join us for our final waterfront gathering of the year to celebrate the 2011 season!\n\n\n\nFall Haul: Sunday\, October 23rd - 11:00 a.m. to 3:00 p.m.\n\n\n\n	\n		Featuring The Mighty Merrimack Rowing Race Fall Classic\n	\n		LBS Signature Ale by Cody Brewing of Amesbury\n	\n		Victuals\, Grog & Music by Demijon!\n\nPlease RSVP by October 21st to: info@lowellsboatshop.com or (978) 834-0050
X-ALT-DESC;FMTTYPE=text/html:<span style="font-size:16px\;"><span style="font-family: times new roman\;">Members and friends\, please join us for our final waterfront gathering of the year to celebrate the 2011 season!<br />\n<br />\nFall Haul: Sunday\, October 23rd - 11:00 a.m. to 3:00 p.m.<br />\n</span></span>\n<ul>\n	<li>\n		<span style="font-size: 14px\;"><span style="font-family: arial\;"><span style="font-size:16px\;"><span style="font-family: times new roman\;">Featuring <u><a href="http://www.lowellsboatshop.com/eventpages/MMRRFall2011.html">The Mighty Merrimack Rowing Race Fall Classic</a></u></span></span></span></span></li>\n	<li>\n		<span style="font-size: 14px\;"><span style="font-family: arial\;"><span style="font-size:16px\;"><span style="font-family: times new roman\;">LBS Signature Ale by Cody Brewing of Amesbury</span></span></span></span></li>\n	<li>\n		<span style="font-size: 14px\;"><span style="font-family: arial\;"><span style="font-size:16px\;"><span style="font-family: times new roman\;">Victuals\, Grog &amp\; Music by Demijon!</span></span></span></span></li>\n</ul>\n<span style="font-size:16px\;"><span style="font-family: times new roman\;">Please RSVP by October 21st to: info@lowellsboatshop.com or (978) 834-0050</span></span>
LOCATION:Lowell's Boat Shop 459 Main Street Amesbury\, MA 01913
UID:e.1189.2292
SEQUENCE:3
DTSTAMP:20260419T191557Z
URL:https://business.newburyportchamber.org/events/details/fall-haul-mighty-merrimack-rowing-race-fall-classic-10-23-2011-2292
END:VEVENT

END:VCALENDAR
