BEGIN:VCALENDAR
VERSION:2.0
PRODID:-//ChamberMaster//Event Calendar 2.0//EN
METHOD:PUBLISH
X-PUBLISHED-TTL:P3D
REFRESH-INTERVAL:P3D
CALSCALE:GREGORIAN
BEGIN:VEVENT
DTSTART:20111015T170000Z
DTEND:20111023T190000Z
X-MICROSOFT-CDO-ALLDAYEVENT:FALSE
SUMMARY:Fall Foliage Cruises!
DESCRIPTION:Come join us for our Fall Foliage Cruises! There is no better place to experience the changing of the seasons than in the pristine Essex Estuary. Enjoy complimentary hot cider and donuts from Russell Orchards of Ipswich while you take in the spectacular New England foliage at its peak.\n\n\n\n   Cruising on Saturdays & Sundays October 15th\, 16th\, 22nd & 23rd. \n\n\n\nDeparts 1 pm - Returns 3 pm. Adults $28 / Children $12  \n\n\n\nCall for reservations: 1-800-RIVER06 or 978-768-6981
X-ALT-DESC;FMTTYPE=text/html:Come join us for our Fall Foliage Cruises! There is no better place to experience the changing of the seasons than in the pristine Essex Estuary. Enjoy complimentary hot cider and donuts from Russell Orchards of Ipswich while you take in the spectacular New England foliage at its peak.<br />\n<br />\n&nbsp\;&#8232\;&#8232\;Cruising on Saturdays &amp\; Sundays October 15th\, 16th\, 22nd &amp\; 23rd.&#8232\;<br />\n<br />\nDeparts 1 pm - Returns 3 pm. Adults $28 / Children $12&#8232\;&#8232\;<br />\n<br />\nCall for reservations: 1-800-RIVER06 or 978-768-6981<br />\n
LOCATION:35 Dodge St. Essex\, MA 01929
UID:e.1189.2312
SEQUENCE:3
DTSTAMP:20260419T191407Z
URL:https://business.newburyportchamber.org/events/details/fall-foliage-cruises-10-15-2011-2312
END:VEVENT

END:VCALENDAR
