BEGIN:VCALENDAR
VERSION:2.0
PRODID:-//ChamberMaster//Event Calendar 2.0//EN
METHOD:PUBLISH
X-PUBLISHED-TTL:P3D
REFRESH-INTERVAL:P3D
CALSCALE:GREGORIAN
BEGIN:VEVENT
DTSTART:20111005T230000Z
DTEND:20111006T010000Z
X-MICROSOFT-CDO-ALLDAYEVENT:FALSE
SUMMARY:Fall Feast Wine Dinner at Loretta Restaurant
DESCRIPTION:Join Us for a Four-Course Fall Feast\, featuring Colorado Rack of Lamb\nLoretta\, a casual American bistro\, will host a special Wine Dinner on Wednesday\, Oct. 5 at 7 p.m.\n\n\n\nThe four course menu will feature: Yukon Gold Potato Spring Roll\, fried golden brown and topped with Cr me Fraiche\, Ossetra Caviar and Chive\; seared Hudson Valley Foie Gras with poached Cherries\, Brioche\, Mache Greens\, and Cherry Gastrique\; pan roasted Colorado Rack of Lamb with Fennel Slaw Salad\, Truffled Brillat-Savarin Cheese Grits and natural joux\; and Chocolate Souffl  with Whiskey Praline sauce and candied Orange Pecans\, all paired with wines to complement the complex flavors of each dish.\n\n\n\nFor vegetarians\, there is an alternate main course of Chanterelle Mushroom Risotto with roasted Mission Figs and aged Gruyere.\n\n\n\n"We welcome this chance to feature an upscale menu that is distinctive from our usual repertoire. The domestically raised Colorado lamb has a more mild and savory flavor than New Zealand lamb. Because domestic lamb is fed a special diet and there are not many large-scale livestock ranches in the U.S.\, this high-quality meat is not often found around here. Chef Kip Wilson has created a multi-course meal that will please discerning palates at a great value\, which is what we like to do\," said Ted Epstein\, owner of Loretta.\n\n\n\nThe prix fixe meal is $65 per person (or $55 for the vegetarian alternative). Please call for reservations at 978-463-0000 as space is limited for this event.
X-ALT-DESC;FMTTYPE=text/html:<h1>\n	<span style="font-family: verdana"><span style="font-size: 12px"><strong>Join Us for a Four-Course Fall Feast\, featuring Colorado Rack of Lamb</strong></span></span></h1>\nLoretta\, a casual American bistro\, will host a special Wine Dinner on Wednesday\, Oct. 5 at 7 p.m.<br />\n<br />\nThe four course menu will feature: Yukon Gold Potato Spring Roll\, fried golden brown and topped with Cr&egrave\;me Fraiche\, Ossetra Caviar and Chive\; seared Hudson Valley Foie Gras with poached Cherries\, Brioche\, Mache Greens\, and Cherry Gastrique\; pan roasted Colorado Rack of Lamb with Fennel Slaw Salad\, Truffled Brillat-Savarin Cheese Grits and natural joux\; and Chocolate Souffl&eacute\; with Whiskey Praline sauce and candied Orange Pecans\, all paired with wines to complement the complex flavors of each dish.<br />\n<br />\nFor vegetarians\, there is an alternate main course of Chanterelle Mushroom Risotto with roasted Mission Figs and aged Gruyere.<br />\n<br />\n&ldquo\;We welcome this chance to feature an upscale menu that is distinctive from our usual repertoire. The domestically raised Colorado lamb has a more mild and savory flavor than New Zealand lamb. Because domestic lamb is fed a special diet and there are not many large-scale livestock ranches in the U.S.\, this high-quality meat is not often found around here. Chef Kip Wilson has created a multi-course meal that will please discerning palates at a great value\, which is what we like to do\,&rdquo\; said Ted Epstein\, owner of Loretta.<br />\n<br />\nThe prix fixe meal is $65 per person (or $55 for the vegetarian alternative). Please call for reservations at 978-463-0000 as space is limited for this event.<br />\n
LOCATION:Loretta Restuarant 27 State St.\, Newburyport
UID:e.1189.2211
SEQUENCE:3
DTSTAMP:20260419T191311Z
URL:https://business.newburyportchamber.org/events/details/fall-feast-wine-dinner-at-loretta-restaurant-10-05-2011-2211
END:VEVENT

END:VCALENDAR
