BEGIN:VCALENDAR
VERSION:2.0
PRODID:-//ChamberMaster//Event Calendar 2.0//EN
METHOD:PUBLISH
X-PUBLISHED-TTL:P3D
REFRESH-INTERVAL:P3D
CALSCALE:GREGORIAN
BEGIN:VEVENT
DTSTART:20080919T040000Z
DTEND:20080919T040000Z
X-MICROSOFT-CDO-ALLDAYEVENT:FALSE
SUMMARY:Fall Fashion Showcase
DESCRIPTION:Fall Fashion ShowcaseSeptember 19\, 2008 - 7:00 pmWaterfront Park Special Event Emcee from Boston Magazine!Free Public Event Pre-party Tickets AvailableTickets include VIP seating\, pre-party food & drinksand a chance to win the Newburyport Gift Basket.Cost:  $25 Pre-party ticket:Available at Chamber of Commerce website www.newburyportchamber.orgor at The Studio\, 26 State Street\, Newburyport All proceeds to benefit Waterfront Park
X-ALT-DESC;FMTTYPE=text/html:<DIV><FONT color=#0080ff size=6><STRONG>Fall Fashion Showcase</STRONG></FONT></DIV><DIV><FONT color=#0080ff>September 19\, 2008 - 7:00 pm</FONT></DIV><DIV><FONT color=#0080ff>Waterfront Park</FONT></DIV><DIV><FONT color=#0080ff></FONT>&nbsp\;</DIV><DIV><FONT color=#0080ff>Special Event Emcee from Boston Magazine!</FONT></DIV><DIV><FONT color=#0080ff>Free Public Event</FONT></DIV><DIV><FONT color=#0080ff></FONT>&nbsp\;</DIV><DIV><FONT color=#0080ff>Pre-party Tickets Available</FONT></DIV><DIV><FONT color=#0080ff>Tickets include VIP seating\, pre-party food &amp\; drinks</FONT></DIV><DIV><FONT color=#0080ff>and a chance to win the Newburyport Gift Basket.</FONT></DIV><DIV><FONT color=#0080ff>Cost:&nbsp\; $25</FONT></DIV><DIV><FONT color=#0080ff></FONT>&nbsp\;</DIV><DIV><FONT color=#0080ff>Pre-party ticket:</FONT></DIV><DIV><FONT color=#0080ff>Available at Chamber of Commerce website www.newburyportchamber.org</FONT></DIV><DIV><FONT color=#0080ff>or at The Studio\, 26 State Street\, Newburyport</FONT></DIV><DIV><FONT color=#0080ff></FONT>&nbsp\;</DIV><DIV><FONT color=#0080ff>All proceeds to benefit Waterfront Park</FONT></DIV><DIV>&nbsp\;</DIV>
LOCATION:Waterfront Park
UID:e.1189.1052
SEQUENCE:3
DTSTAMP:20260422T161959Z
URL:https://business.newburyportchamber.org/events/details/fall-fashion-showcase-09-19-2008-1052
END:VEVENT

END:VCALENDAR
