BEGIN:VCALENDAR
VERSION:2.0
PRODID:-//ChamberMaster//Event Calendar 2.0//EN
METHOD:PUBLISH
X-PUBLISHED-TTL:P3D
REFRESH-INTERVAL:P3D
CALSCALE:GREGORIAN
BEGIN:VEVENT
DTSTART:20120127T130000Z
DTEND:20120127T143000Z
X-MICROSOFT-CDO-ALLDAYEVENT:FALSE
SUMMARY:Eye Opener - Zac & Ani's
DESCRIPTION:Networking Eye Opener at Zac & Ani's \n\n\n\nEnjoy your morning coffee as you network in a casual and informal atmosphere.  Meet and mingle with approximately 20 members as you indulge in some fresh baked pastries and then introduce yourself and your business to the group. Zac & Ani's recently moved from nearby Amesbury to 9 Liberty Street in downtown Newburyport.\n\n\n\nSpace is limited.\n\nPlease RSVP\n\n\n\nBring your marketing and promotional materials.
X-ALT-DESC;FMTTYPE=text/html:<strong><span style="color: #006400">Networking Eye Opener at Zac &amp\; Ani&#39\;s </span></strong><br />\n<br />\nEnjoy your morning coffee as you network in a casual and informal atmosphere.&nbsp\; Meet and mingle with approximately 20 members as you indulge in some fresh baked pastries and then introduce yourself and your business to the group. Zac &amp\; Ani&#39\;s recently moved from nearby Amesbury to 9 Liberty Street in downtown Newburyport.<br />\n<br />\n<strong>Space is limited.</strong><br />\nPlease RSVP<br />\n<br />\nBring your marketing and promotional materials.
LOCATION:9 Liberty Street Downtown Newburyport\, MA
UID:e.1189.2200
SEQUENCE:3
DTSTAMP:20260419T154922Z
URL:https://business.newburyportchamber.org/events/details/eye-opener-zac-ani-s-01-27-2012-2200
END:VEVENT

END:VCALENDAR
