BEGIN:VCALENDAR
VERSION:2.0
PRODID:-//ChamberMaster//Event Calendar 2.0//EN
METHOD:PUBLISH
X-PUBLISHED-TTL:P3D
REFRESH-INTERVAL:P3D
CALSCALE:GREGORIAN
BEGIN:VEVENT
DTSTART:20110527T040000Z
DTEND:20110527T040000Z
X-MICROSOFT-CDO-ALLDAYEVENT:FALSE
SUMMARY:Eye Opener - The Ruby Slipper
DESCRIPTION:Hosted by: The Ruby Slipper\nEnjoy your morning coffee as you network in this jewelry\, accessories and shoe boutique at the Tannery.Bring your business promotional materials and samples if appropriate.Free AdmissionRSVP required
X-ALT-DESC;FMTTYPE=text/html:<DIV style="FONT-FAMILY: Arial"><P style="FONT-FAMILY: Arial"><FONT color=#ff0000 size=4><STRONG>Hosted by: The Ruby Slipper<BR></STRONG></FONT></P><P style="FONT-FAMILY: Arial"><FONT size=4>Enjoy your morning coffee as you network in this jewelry\, accessories and shoe boutique at the Tannery.</FONT></P><P style="FONT-FAMILY: Arial"><FONT size=4>Bring your business&nbsp\;promotional materials and samples if appropriate.</FONT></P><P style="FONT-FAMILY: Arial"><FONT size=4></FONT><P style="FONT-FAMILY: Arial"><FONT size=4></FONT></P><DIV style="FONT-FAMILY: Arial"><FONT size=4>Free Admission</FONT></DIV><DIV style="FONT-FAMILY: Arial"><FONT size=4>RSVP required<BR></FONT></DIV><P style="FONT-FAMILY: Arial"></P></DIV>
LOCATION:The Ruby Slipper
UID:e.1189.1619
SEQUENCE:3
DTSTAMP:20260420T052743Z
URL:https://business.newburyportchamber.org/events/details/eye-opener-the-ruby-slipper-05-27-2011-1619
END:VEVENT

END:VCALENDAR
