BEGIN:VCALENDAR
VERSION:2.0
PRODID:-//ChamberMaster//Event Calendar 2.0//EN
METHOD:PUBLISH
X-PUBLISHED-TTL:P3D
REFRESH-INTERVAL:P3D
CALSCALE:GREGORIAN
BEGIN:VEVENT
DTSTART:20090424T040000Z
DTEND:20090424T040000Z
X-MICROSOFT-CDO-ALLDAYEVENT:FALSE
SUMMARY:Eye Opener - SKYY Salon & Spa
DESCRIPTION:Friday Morning Networking Eye OpenerHosted by SKYY Salon & Spa\n102 Bridge Road\, SalisburyEnjoy your morning coffee as you network in a casual environment.\nBring your business promotional materials and samples if appropriate.Free Admission
X-ALT-DESC;FMTTYPE=text/html:<P><STRONG>Friday Morning Networking Eye Opener</STRONG></P><P><STRONG><FONT color=#ff0000>Hosted by SKYY Salon &amp\; Spa<BR>102 Bridge Road\, Salisbury</FONT></STRONG></P><P>Enjoy your morning coffee as you network in a casual environment.<BR>Bring your business promotional materials and samples if appropriate.</P><P><STRONG>Free Admission</STRONG></P>
LOCATION:SKYY Salon & Spa
UID:e.1189.1158
SEQUENCE:3
DTSTAMP:20260422T041653Z
URL:https://business.newburyportchamber.org/events/details/eye-opener-skyy-salon-spa-04-24-2009-1158
END:VEVENT

END:VCALENDAR
