BEGIN:VCALENDAR
VERSION:2.0
PRODID:-//ChamberMaster//Event Calendar 2.0//EN
METHOD:PUBLISH
X-PUBLISHED-TTL:P3D
REFRESH-INTERVAL:P3D
CALSCALE:GREGORIAN
BEGIN:VEVENT
DTSTART:20090925T040000Z
DTEND:20090925T040000Z
X-MICROSOFT-CDO-ALLDAYEVENT:FALSE
SUMMARY:Eye Opener - September 2009
DESCRIPTION:Revitalive Health & Wellness\n128 High Street\, across from Frog Pond & The Mall\nNewburyportEnjoy your morning coffee as you network in this new health & wellness and education location.\nEnjoy fresh smoothies as well as other healthy food samplings. Bring your business promotional materials and samples if appropriate.Free AdmissionRSVP required
X-ALT-DESC;FMTTYPE=text/html:<DIV style="FONT-FAMILY: Arial"><P style="FONT-FAMILY: Arial"><FONT color=#ff0000 size=4><STRONG><FONT color=#489b20>Revitalive Health &amp\; Wellness<BR></FONT></STRONG><FONT color=#000000 size=3>128 High Street\, across from Frog Pond &amp\; The Mall<BR>Newburyport</FONT></FONT></P><P style="FONT-FAMILY: Arial">Enjoy your morning coffee as you network in&nbsp\;this new health &amp\; wellness&nbsp\;and education location.<BR>Enjoy fresh smoothies as well as other healthy food samplings. </P><P style="FONT-FAMILY: Arial">Bring your business&nbsp\;promotional materials and samples if appropriate.</P><P style="FONT-FAMILY: Arial"><P style="FONT-FAMILY: Arial"><FONT size=4></FONT></P><DIV style="FONT-FAMILY: Arial"><FONT size=4>Free Admission</FONT></DIV><DIV style="FONT-FAMILY: Arial"><FONT size=4>RSVP required<BR></DIV></FONT><P style="FONT-FAMILY: Arial"></P></DIV>
LOCATION:Revitalive Health & Wellness
UID:e.1189.1267
SEQUENCE:3
DTSTAMP:20260421T194521Z
URL:https://business.newburyportchamber.org/events/details/eye-opener-september-2009-09-25-2009-1267
END:VEVENT

END:VCALENDAR
